BEGIN:VCALENDAR
VERSION:1.0
BEGIN:VEVENT
DTSTART:20250611T191500
DTEND:20250611T201500
SUMMARY:Lucky Ducks vs. I'd hit that
DESCRIPTION:Co- Rec B - Missoula Parks & Recreation
LOCATION:Playfair Park Sand Volleyball - Court 5
CATEGORIES:QuickScores; Volleyball Game
TRANSP:0
DALARM:20250611T171500;PT10M;2;Lucky Ducks vs. I'd hit that
END:VEVENT
BEGIN:VEVENT
DTSTART:20250618T191500
DTEND:20250618T201500
SUMMARY:The Plantains vs. Lucky Ducks
DESCRIPTION:Co- Rec B - Missoula Parks & Recreation
LOCATION:Playfair Park Sand Volleyball - Court 4
CATEGORIES:QuickScores; Volleyball Game
TRANSP:0
DALARM:20250618T171500;PT10M;2;The Plantains vs. Lucky Ducks
END:VEVENT
BEGIN:VEVENT
DTSTART:20250618T201500
DTEND:20250618T211500
SUMMARY:The Sand Squad vs. Lucky Ducks
DESCRIPTION:Co- Rec B - Missoula Parks & Recreation
LOCATION:Playfair Park Sand Volleyball - Court 4
CATEGORIES:QuickScores; Volleyball Game
TRANSP:0
DALARM:20250618T181500;PT10M;2;The Sand Squad vs. Lucky Ducks
END:VEVENT
BEGIN:VEVENT
DTSTART:20250625T181500
DTEND:20250625T191500
SUMMARY:Lucky Ducks vs. Set It and Forget It
DESCRIPTION:Co- Rec B - Missoula Parks & Recreation
LOCATION:Playfair Park Sand Volleyball - Court 4
CATEGORIES:QuickScores; Volleyball Game
TRANSP:0
DALARM:20250625T161500;PT10M;2;Lucky Ducks vs. Set It and Forget It
END:VEVENT
BEGIN:VEVENT
DTSTART:20250709T181500
DTEND:20250709T191500
SUMMARY:Dirty Shirly and the Girls vs. Lucky Ducks
DESCRIPTION:Co- Rec B - Missoula Parks & Recreation
LOCATION:Playfair Park Sand Volleyball - Court 5
CATEGORIES:QuickScores; Volleyball Game
TRANSP:0
DALARM:20250709T161500;PT10M;2;Dirty Shirly and the Girls vs. Lucky Ducks
END:VEVENT
BEGIN:VEVENT
DTSTART:20250723T181500
DTEND:20250723T191500
SUMMARY:Lucky Ducks vs. Sandcastle Kickers
DESCRIPTION:Co- Rec B - Missoula Parks & Recreation
LOCATION:Playfair Park Sand Volleyball - Court 6
CATEGORIES:QuickScores; Volleyball Game
TRANSP:0
DALARM:20250723T161500;PT10M;2;Lucky Ducks vs. Sandcastle Kickers
END:VEVENT
BEGIN:VEVENT
DTSTART:20250730T191500
DTEND:20250730T201500
SUMMARY:[1] Lucky Ducks vs. [9] Duck it Up
DESCRIPTION:Co- Rec B - Missoula Parks & Recreation
LOCATION:Playfair Park Sand Volleyball - Court 4
CATEGORIES:QuickScores; Volleyball Game
TRANSP:0
DALARM:20250730T171500;PT10M;2;[1] Lucky Ducks vs. [9] Duck it Up
END:VEVENT
BEGIN:VEVENT
DTSTART:20250806T191500
DTEND:20250806T201500
SUMMARY:[1] Lucky Ducks vs. [4] Dirty Shirly and the Girls
DESCRIPTION:Co- Rec B - Missoula Parks & Recreation
LOCATION:Playfair Park Sand Volleyball - Court 3
CATEGORIES:QuickScores; Volleyball Game
TRANSP:0
DALARM:20250806T171500;PT10M;2;[1] Lucky Ducks vs. [4] Dirty Shirly and the Girls
END:VEVENT
BEGIN:VEVENT
DTSTART:20250806T201500
DTEND:20250806T211500
SUMMARY:[1] Lucky Ducks vs. [3] Spike Patrol
DESCRIPTION:Co- Rec B - Missoula Parks & Recreation
LOCATION:Playfair Park Sand Volleyball - Court 1
CATEGORIES:QuickScores; Volleyball Game
TRANSP:0
DALARM:20250806T181500;PT10M;2;[1] Lucky Ducks vs. [3] Spike Patrol
END:VEVENT
END:VCALENDAR
