BEGIN:VCALENDAR
VERSION:1.0
BEGIN:VEVENT
DTSTART:20250611T191500
DTEND:20250611T201500
SUMMARY:Lucky Ducks vs. I'd hit that
DESCRIPTION:Co- Rec B - Missoula Parks & Recreation
LOCATION:Playfair Park Sand Volleyball - Court 5
CATEGORIES:QuickScores; Volleyball Game
TRANSP:0
DALARM:20250611T171500;PT10M;2;Lucky Ducks vs. I'd hit that
END:VEVENT
BEGIN:VEVENT
DTSTART:20250618T181500
DTEND:20250618T191500
SUMMARY:I'd hit that vs. Spikeopaths
DESCRIPTION:Co- Rec B - Missoula Parks & Recreation
LOCATION:Playfair Park Sand Volleyball - Court 6
CATEGORIES:QuickScores; Volleyball Game
TRANSP:0
DALARM:20250618T161500;PT10M;2;I'd hit that vs. Spikeopaths
END:VEVENT
BEGIN:VEVENT
DTSTART:20250625T181500
DTEND:20250625T191500
SUMMARY:Funky Flamingos vs. I'd hit that
DESCRIPTION:Co- Rec B - Missoula Parks & Recreation
LOCATION:Playfair Park Sand Volleyball - Court 5
CATEGORIES:QuickScores; Volleyball Game
TRANSP:0
DALARM:20250625T161500;PT10M;2;Funky Flamingos vs. I'd hit that
END:VEVENT
BEGIN:VEVENT
DTSTART:20250709T201500
DTEND:20250709T211500
SUMMARY:The Sand Squad vs. I'd hit that
DESCRIPTION:Co- Rec B - Missoula Parks & Recreation
LOCATION:Playfair Park Sand Volleyball - Court 4
CATEGORIES:QuickScores; Volleyball Game
TRANSP:0
DALARM:20250709T181500;PT10M;2;The Sand Squad vs. I'd hit that
END:VEVENT
BEGIN:VEVENT
DTSTART:20250716T181500
DTEND:20250716T191500
SUMMARY:I'd hit that vs. Balls of Glory
DESCRIPTION:Co- Rec B - Missoula Parks & Recreation
LOCATION:Playfair Park Sand Volleyball - Court 1
CATEGORIES:QuickScores; Volleyball Game
TRANSP:0
DALARM:20250716T161500;PT10M;2;I'd hit that vs. Balls of Glory
END:VEVENT
BEGIN:VEVENT
DTSTART:20250723T191500
DTEND:20250723T201500
SUMMARY:I'd hit that vs. Red Rockets
DESCRIPTION:Co- Rec B - Missoula Parks & Recreation
LOCATION:Playfair Park Sand Volleyball - Court 4
CATEGORIES:QuickScores; Volleyball Game
TRANSP:0
DALARM:20250723T171500;PT10M;2;I'd hit that vs. Red Rockets
END:VEVENT
BEGIN:VEVENT
DTSTART:20250730T181500
DTEND:20250730T191500
SUMMARY:[7] I'd hit that vs. [10] The Plantains
DESCRIPTION:Co- Rec B - Missoula Parks & Recreation
LOCATION:Playfair Park Sand Volleyball - Court 5
CATEGORIES:QuickScores; Volleyball Game
TRANSP:0
DALARM:20250730T161500;PT10M;2;[7] I'd hit that vs. [10] The Plantains
END:VEVENT
BEGIN:VEVENT
DTSTART:20250730T191500
DTEND:20250730T201500
SUMMARY:[2] Set It and Forget It vs. [7] I'd hit that
DESCRIPTION:Co- Rec B - Missoula Parks & Recreation
LOCATION:Playfair Park Sand Volleyball - Court 3
CATEGORIES:QuickScores; Volleyball Game
TRANSP:0
DALARM:20250730T171500;PT10M;2;[2] Set It and Forget It vs. [7] I'd hit that
END:VEVENT
END:VCALENDAR
