BEGIN:VCALENDAR
VERSION:1.0
BEGIN:VEVENT
DTSTART:20250611T201500
DTEND:20250611T211500
SUMMARY:The Plantains vs. Funky Flamingos
DESCRIPTION:Co- Rec B - Missoula Parks & Recreation
LOCATION:Playfair Park Sand Volleyball - Court 4
CATEGORIES:QuickScores; Volleyball Game
TRANSP:0
DALARM:20250611T181500;PT10M;2;The Plantains vs. Funky Flamingos
END:VEVENT
BEGIN:VEVENT
DTSTART:20250618T191500
DTEND:20250618T201500
SUMMARY:The Plantains vs. Lucky Ducks
DESCRIPTION:Co- Rec B - Missoula Parks & Recreation
LOCATION:Playfair Park Sand Volleyball - Court 4
CATEGORIES:QuickScores; Volleyball Game
TRANSP:0
DALARM:20250618T171500;PT10M;2;The Plantains vs. Lucky Ducks
END:VEVENT
BEGIN:VEVENT
DTSTART:20250625T181500
DTEND:20250625T191500
SUMMARY:The Plantains vs. The Sand Squad
DESCRIPTION:Co- Rec B - Missoula Parks & Recreation
LOCATION:Playfair Park Sand Volleyball - Court 6
CATEGORIES:QuickScores; Volleyball Game
TRANSP:0
DALARM:20250625T161500;PT10M;2;The Plantains vs. The Sand Squad
END:VEVENT
BEGIN:VEVENT
DTSTART:20250709T191500
DTEND:20250709T201500
SUMMARY:Sandcastle Kickers vs. The Plantains
DESCRIPTION:Co- Rec B - Missoula Parks & Recreation
LOCATION:Playfair Park Sand Volleyball - Court 6
CATEGORIES:QuickScores; Volleyball Game
TRANSP:0
DALARM:20250709T171500;PT10M;2;Sandcastle Kickers vs. The Plantains
END:VEVENT
BEGIN:VEVENT
DTSTART:20250716T191500
DTEND:20250716T201500
SUMMARY:Red Rockets vs. The Plantains
DESCRIPTION:Co- Rec B - Missoula Parks & Recreation
LOCATION:Playfair Park Sand Volleyball - Court 5
CATEGORIES:QuickScores; Volleyball Game
TRANSP:0
DALARM:20250716T171500;PT10M;2;Red Rockets vs. The Plantains
END:VEVENT
BEGIN:VEVENT
DTSTART:20250723T201500
DTEND:20250723T211500
SUMMARY:Spikeopaths vs. The Plantains
DESCRIPTION:Co- Rec B - Missoula Parks & Recreation
LOCATION:Playfair Park Sand Volleyball - Court 5
CATEGORIES:QuickScores; Volleyball Game
TRANSP:0
DALARM:20250723T181500;PT10M;2;Spikeopaths vs. The Plantains
END:VEVENT
BEGIN:VEVENT
DTSTART:20250730T181500
DTEND:20250730T191500
SUMMARY:[7] I'd hit that vs. [10] The Plantains
DESCRIPTION:Co- Rec B - Missoula Parks & Recreation
LOCATION:Playfair Park Sand Volleyball - Court 5
CATEGORIES:QuickScores; Volleyball Game
TRANSP:0
DALARM:20250730T161500;PT10M;2;[7] I'd hit that vs. [10] The Plantains
END:VEVENT
END:VCALENDAR
