BEGIN:VCALENDAR
VERSION:1.0
BEGIN:VEVENT
DTSTART:20250611T191500
DTEND:20250611T201500
SUMMARY:The Sand Squad vs. Sandcastle Kickers
DESCRIPTION:Co- Rec B - Missoula Parks & Recreation
LOCATION:Playfair Park Sand Volleyball - Court 4
CATEGORIES:QuickScores; Volleyball Game
TRANSP:0
DALARM:20250611T171500;PT10M;2;The Sand Squad vs. Sandcastle Kickers
END:VEVENT
BEGIN:VEVENT
DTSTART:20250618T181500
DTEND:20250618T191500
SUMMARY:Sandcastle Kickers vs. Funky Flamingos
DESCRIPTION:Co- Rec B - Missoula Parks & Recreation
LOCATION:Playfair Park Sand Volleyball - Court 4
CATEGORIES:QuickScores; Volleyball Game
TRANSP:0
DALARM:20250618T161500;PT10M;2;Sandcastle Kickers vs. Funky Flamingos
END:VEVENT
BEGIN:VEVENT
DTSTART:20250625T191500
DTEND:20250625T201500
SUMMARY:Sandcastle Kickers vs. Spike Patrol
DESCRIPTION:Co- Rec B - Missoula Parks & Recreation
LOCATION:Playfair Park Sand Volleyball - Court 5
CATEGORIES:QuickScores; Volleyball Game
TRANSP:0
DALARM:20250625T171500;PT10M;2;Sandcastle Kickers vs. Spike Patrol
END:VEVENT
BEGIN:VEVENT
DTSTART:20250709T191500
DTEND:20250709T201500
SUMMARY:Sandcastle Kickers vs. The Plantains
DESCRIPTION:Co- Rec B - Missoula Parks & Recreation
LOCATION:Playfair Park Sand Volleyball - Court 6
CATEGORIES:QuickScores; Volleyball Game
TRANSP:0
DALARM:20250709T171500;PT10M;2;Sandcastle Kickers vs. The Plantains
END:VEVENT
BEGIN:VEVENT
DTSTART:20250716T181500
DTEND:20250716T191500
SUMMARY:Spikeopaths vs. Sandcastle Kickers
DESCRIPTION:Co- Rec B - Missoula Parks & Recreation
LOCATION:Playfair Park Sand Volleyball - Court 5
CATEGORIES:QuickScores; Volleyball Game
TRANSP:0
DALARM:20250716T161500;PT10M;2;Spikeopaths vs. Sandcastle Kickers
END:VEVENT
BEGIN:VEVENT
DTSTART:20250723T181500
DTEND:20250723T191500
SUMMARY:Lucky Ducks vs. Sandcastle Kickers
DESCRIPTION:Co- Rec B - Missoula Parks & Recreation
LOCATION:Playfair Park Sand Volleyball - Court 6
CATEGORIES:QuickScores; Volleyball Game
TRANSP:0
DALARM:20250723T161500;PT10M;2;Lucky Ducks vs. Sandcastle Kickers
END:VEVENT
BEGIN:VEVENT
DTSTART:20250730T181500
DTEND:20250730T191500
SUMMARY:[8] Sandcastle Kickers vs. [9] Duck it Up
DESCRIPTION:Co- Rec B - Missoula Parks & Recreation
LOCATION:Playfair Park Sand Volleyball - Court 1
CATEGORIES:QuickScores; Volleyball Game
TRANSP:0
DALARM:20250730T161500;PT10M;2;[8] Sandcastle Kickers vs. [9] Duck it Up
END:VEVENT
END:VCALENDAR
