BEGIN:VCALENDAR
VERSION:1.0
BEGIN:VEVENT
DTSTART:20250423T203000
DTEND:20250423T213000
SUMMARY:Keep it Easy vs. Strikers
DESCRIPTION:Women's - Missoula Parks & Recreation
LOCATION:FMRP Turf North
CATEGORIES:QuickScores; Soccer - Adult Game
TRANSP:0
DALARM:20250423T183000;PT10M;2;Keep it Easy vs. Strikers
END:VEVENT
BEGIN:VEVENT
DTSTART:20250430T203000
DTEND:20250430T213000
SUMMARY:Keep it Easy vs. Chiquitas
DESCRIPTION:Women's - Missoula Parks & Recreation
LOCATION:FMRP Turf North
CATEGORIES:QuickScores; Soccer - Adult Game
TRANSP:0
DALARM:20250430T183000;PT10M;2;Keep it Easy vs. Chiquitas
END:VEVENT
BEGIN:VEVENT
DTSTART:20250507T203000
DTEND:20250507T213000
SUMMARY:Keep it Easy vs. Geckos
DESCRIPTION:Women's - Missoula Parks & Recreation
LOCATION:FMRP Turf North
CATEGORIES:QuickScores; Soccer - Adult Game
TRANSP:0
DALARM:20250507T183000;PT10M;2;Keep it Easy vs. Geckos
END:VEVENT
BEGIN:VEVENT
DTSTART:20250514T193000
DTEND:20250514T203000
SUMMARY:Strikers vs. Keep it Easy
DESCRIPTION:Women's - Missoula Parks & Recreation
LOCATION:FMRP Turf North
CATEGORIES:QuickScores; Soccer - Adult Game
TRANSP:0
DALARM:20250514T173000;PT10M;2;Strikers vs. Keep it Easy
END:VEVENT
BEGIN:VEVENT
DTSTART:20250521T193000
DTEND:20250521T203000
SUMMARY:Chiquitas vs. Keep it Easy
DESCRIPTION:Women's - Missoula Parks & Recreation
LOCATION:FMRP Turf North
CATEGORIES:QuickScores; Soccer - Adult Game
TRANSP:0
DALARM:20250521T173000;PT10M;2;Chiquitas vs. Keep it Easy
END:VEVENT
BEGIN:VEVENT
DTSTART:20250528T193000
DTEND:20250528T203000
SUMMARY:Geckos vs. Keep it Easy
DESCRIPTION:Women's - Missoula Parks & Recreation
LOCATION:FMRP Turf North
CATEGORIES:QuickScores; Soccer - Adult Game
TRANSP:0
DALARM:20250528T173000;PT10M;2;Geckos vs. Keep it Easy
END:VEVENT
END:VCALENDAR
