BEGIN:VCALENDAR
VERSION:1.0
BEGIN:VEVENT
DTSTART:20240903T181500
DTEND:20240903T191500
SUMMARY:Practice Squad vs. ABCDE FC
DESCRIPTION:Fall 7v7 Co-Rec Soccer (Tuesday B) - Missoula Parks & Recreation
LOCATION:FMRP Turf North
CATEGORIES:QuickScores; Soccer - Adult Game
TRANSP:0
DALARM:20240903T161500;PT10M;2;Practice Squad vs. ABCDE FC
END:VEVENT
BEGIN:VEVENT
DTSTART:20240917T181500
DTEND:20240917T191500
SUMMARY:The Gumby Show vs. ABCDE FC
DESCRIPTION:Fall 7v7 Co-Rec Soccer (Tuesday B) - Missoula Parks & Recreation
LOCATION:FMRP Turf North
CATEGORIES:QuickScores; Soccer - Adult Game
TRANSP:0
DALARM:20240917T161500;PT10M;2;The Gumby Show vs. ABCDE FC
END:VEVENT
BEGIN:VEVENT
DTSTART:20240924T201500
DTEND:20240924T211500
SUMMARY:ABCDE FC vs. Blue Nightshade
DESCRIPTION:Fall 7v7 Co-Rec Soccer (Tuesday B) - Missoula Parks & Recreation
LOCATION:FMRP Turf North
CATEGORIES:QuickScores; Soccer - Adult Game
TRANSP:0
DALARM:20240924T181500;PT10M;2;ABCDE FC vs. Blue Nightshade
END:VEVENT
BEGIN:VEVENT
DTSTART:20241001T191500
DTEND:20241001T201500
SUMMARY:Rockstars vs. ABCDE FC
DESCRIPTION:Fall 7v7 Co-Rec Soccer (Tuesday B) - Missoula Parks & Recreation
LOCATION:FMRP Turf North
CATEGORIES:QuickScores; Soccer - Adult Game
TRANSP:0
DALARM:20241001T171500;PT10M;2;Rockstars vs. ABCDE FC
END:VEVENT
BEGIN:VEVENT
DTSTART:20241008T191500
DTEND:20241008T201500
SUMMARY:ABCDE FC vs. Mixed Bag
DESCRIPTION:Fall 7v7 Co-Rec Soccer (Tuesday B) - Missoula Parks & Recreation
LOCATION:FMRP Turf North
CATEGORIES:QuickScores; Soccer - Adult Game
TRANSP:0
DALARM:20241008T171500;PT10M;2;ABCDE FC vs. Mixed Bag
END:VEVENT
BEGIN:VEVENT
DTSTART:20241015T201500
DTEND:20241015T211500
SUMMARY:ABCDE FC vs. Manchester Reunited
DESCRIPTION:Fall 7v7 Co-Rec Soccer (Tuesday B) - Missoula Parks & Recreation
LOCATION:FMRP Turf South
CATEGORIES:QuickScores; Soccer - Adult Game
TRANSP:0
DALARM:20241015T181500;PT10M;2;ABCDE FC vs. Manchester Reunited
END:VEVENT
END:VCALENDAR
