BEGIN:VCALENDAR
VERSION:1.0
BEGIN:VEVENT
DTSTART:20240916T181500
DTEND:20240916T191500
SUMMARY:Penguins vs. The Little Piggies
DESCRIPTION:Fall 7v7 Co-Rec Soccer (Monday C) - Missoula Parks & Recreation
LOCATION:FMRP Turf South
CATEGORIES:QuickScores; Soccer - Adult Game
TRANSP:0
DALARM:20240916T161500;PT10M;2;Penguins vs. The Little Piggies
END:VEVENT
BEGIN:VEVENT
DTSTART:20240923T191500
DTEND:20240923T201500
SUMMARY:Ctrl Alt Defeat vs. Penguins
DESCRIPTION:Fall 7v7 Co-Rec Soccer (Monday C) - Missoula Parks & Recreation
LOCATION:FMRP Turf South
CATEGORIES:QuickScores; Soccer - Adult Game
TRANSP:0
DALARM:20240923T171500;PT10M;2;Ctrl Alt Defeat vs. Penguins
END:VEVENT
BEGIN:VEVENT
DTSTART:20240930T191500
DTEND:20240930T201500
SUMMARY:Penguins vs. Rocky Mountain Eyez
DESCRIPTION:Fall 7v7 Co-Rec Soccer (Monday C) - Missoula Parks & Recreation
LOCATION:FMRP Turf South
CATEGORIES:QuickScores; Soccer - Adult Game
TRANSP:0
DALARM:20240930T171500;PT10M;2;Penguins vs. Rocky Mountain Eyez
END:VEVENT
BEGIN:VEVENT
DTSTART:20241007T191500
DTEND:20241007T201500
SUMMARY:Green Team 2.0 vs. Penguins
DESCRIPTION:Fall 7v7 Co-Rec Soccer (Monday C) - Missoula Parks & Recreation
LOCATION:FMRP Turf North
CATEGORIES:QuickScores; Soccer - Adult Game
TRANSP:0
DALARM:20241007T171500;PT10M;2;Green Team 2.0 vs. Penguins
END:VEVENT
BEGIN:VEVENT
DTSTART:20241014T181500
DTEND:20241014T191500
SUMMARY:Fliptastics vs. Penguins
DESCRIPTION:Fall 7v7 Co-Rec Soccer (Monday C) - Missoula Parks & Recreation
LOCATION:FMRP Turf North
CATEGORIES:QuickScores; Soccer - Adult Game
TRANSP:0
DALARM:20241014T161500;PT10M;2;Fliptastics vs. Penguins
END:VEVENT
BEGIN:VEVENT
DTSTART:20241021T181500
DTEND:20241021T191500
SUMMARY:Penguins vs. parks and wrecked
DESCRIPTION:Fall 7v7 Co-Rec Soccer (Monday C) - Missoula Parks & Recreation
LOCATION:FMRP Turf North
CATEGORIES:QuickScores; Soccer - Adult Game
TRANSP:0
DALARM:20241021T161500;PT10M;2;Penguins vs. parks and wrecked
END:VEVENT
BEGIN:VEVENT
DTSTART:20241028T181500
DTEND:20241028T191500
SUMMARY:[1] Rocky Mountain Eyez vs. [4] Penguins
DESCRIPTION:Fall 7v7 Co-Rec Soccer (Monday C) - Missoula Parks & Recreation
LOCATION:FMRP Turf North
CATEGORIES:QuickScores; Soccer - Adult Game
TRANSP:0
DALARM:20241028T161500;PT10M;2;[1] Rocky Mountain Eyez vs. [4] Penguins
END:VEVENT
END:VCALENDAR
