BEGIN:VCALENDAR
VERSION:1.0
BEGIN:VEVENT
DTSTART:20240619T201500
DTEND:20240619T211500
SUMMARY:Kickers vs. Team 6
DESCRIPTION:Summer 7v7 Men's Soccer (Wednesday) - Missoula Parks & Recreation
LOCATION:FMRP Turf North
CATEGORIES:QuickScores; Soccer - Adult Game
TRANSP:0
DALARM:20240619T181500;PT10M;2;Kickers vs. Team 6
END:VEVENT
BEGIN:VEVENT
DTSTART:20240710T181500
DTEND:20240710T191500
SUMMARY:Kickers vs. Old and Young
DESCRIPTION:Summer 7v7 Men's Soccer (Wednesday) - Missoula Parks & Recreation
LOCATION:FMRP 9 South
CATEGORIES:QuickScores; Soccer - Adult Game
TRANSP:0
DALARM:20240710T161500;PT10M;2;Kickers vs. Old and Young
END:VEVENT
BEGIN:VEVENT
DTSTART:20240717T181500
DTEND:20240717T191500
SUMMARY:All Nations vs. Kickers
DESCRIPTION:Summer 7v7 Men's Soccer (Wednesday) - Missoula Parks & Recreation
LOCATION:FMRP 9 South
CATEGORIES:QuickScores; Soccer - Adult Game
TRANSP:0
DALARM:20240717T161500;PT10M;2;All Nations vs. Kickers
END:VEVENT
BEGIN:VEVENT
DTSTART:20240724T201500
DTEND:20240724T211500
SUMMARY:Kickers vs. Missoula Mavericks
DESCRIPTION:Summer 7v7 Men's Soccer (Wednesday) - Missoula Parks & Recreation
LOCATION:FMRP 9 South
CATEGORIES:QuickScores; Soccer - Adult Game
TRANSP:0
DALARM:20240724T181500;PT10M;2;Kickers vs. Missoula Mavericks
END:VEVENT
BEGIN:VEVENT
DTSTART:20240731T201500
DTEND:20240731T211500
SUMMARY:Kickers vs. Team 6
DESCRIPTION:Forfeit --- Summer 7v7 Men's Soccer (Wednesday) - Missoula Parks & Recreation
LOCATION:FMRP 9 South
CATEGORIES:QuickScores; Soccer - Adult Game
TRANSP:0
DALARM:20240731T181500;PT10M;2;Kickers vs. Team 6
END:VEVENT
BEGIN:VEVENT
DTSTART:20240807T201500
DTEND:20240807T211500
SUMMARY:Richmond Reserves vs. Kickers
DESCRIPTION:Summer 7v7 Men's Soccer (Wednesday) - Missoula Parks & Recreation
LOCATION:FMRP Turf South
CATEGORIES:QuickScores; Soccer - Adult Game
TRANSP:0
DALARM:20240807T181500;PT10M;2;Richmond Reserves vs. Kickers
END:VEVENT
BEGIN:VEVENT
DTSTART:20240814T181500
DTEND:20240814T191500
SUMMARY:Missoula Mavericks vs. Kickers
DESCRIPTION:Summer 7v7 Men's Soccer (Wednesday) - Missoula Parks & Recreation
LOCATION:FMRP Turf South
CATEGORIES:QuickScores; Soccer - Adult Game
TRANSP:0
DALARM:20240814T161500;PT10M;2;Missoula Mavericks vs. Kickers
END:VEVENT
END:VCALENDAR
