BEGIN:VCALENDAR
VERSION:1.0
BEGIN:VEVENT
DTSTART:20240612T181500
DTEND:20240612T191500
SUMMARY:All Nations vs. Old and Young
DESCRIPTION:Summer 7v7 Men's Soccer (Wednesday) - Missoula Parks & Recreation
LOCATION:FMRP Turf North
CATEGORIES:QuickScores; Soccer - Adult Game
TRANSP:0
DALARM:20240612T161500;PT10M;2;All Nations vs. Old and Young
END:VEVENT
BEGIN:VEVENT
DTSTART:20240619T181500
DTEND:20240619T191500
SUMMARY:Missoula Mavericks vs. All Nations
DESCRIPTION:Summer 7v7 Men's Soccer (Wednesday) - Missoula Parks & Recreation
LOCATION:FMRP Turf North
CATEGORIES:QuickScores; Soccer - Adult Game
TRANSP:0
DALARM:20240619T161500;PT10M;2;Missoula Mavericks vs. All Nations
END:VEVENT
BEGIN:VEVENT
DTSTART:20240710T201500
DTEND:20240710T211500
SUMMARY:All Nations vs. Missoula Mavericks
DESCRIPTION:Summer 7v7 Men's Soccer (Wednesday) - Missoula Parks & Recreation
LOCATION:FMRP 9 South
CATEGORIES:QuickScores; Soccer - Adult Game
TRANSP:0
DALARM:20240710T181500;PT10M;2;All Nations vs. Missoula Mavericks
END:VEVENT
BEGIN:VEVENT
DTSTART:20240717T181500
DTEND:20240717T191500
SUMMARY:All Nations vs. Kickers
DESCRIPTION:Summer 7v7 Men's Soccer (Wednesday) - Missoula Parks & Recreation
LOCATION:FMRP 9 South
CATEGORIES:QuickScores; Soccer - Adult Game
TRANSP:0
DALARM:20240717T161500;PT10M;2;All Nations vs. Kickers
END:VEVENT
BEGIN:VEVENT
DTSTART:20240724T191500
DTEND:20240724T201500
SUMMARY:All Nations vs. Richmond Reserves
DESCRIPTION:Summer 7v7 Men's Soccer (Wednesday) - Missoula Parks & Recreation
LOCATION:FMRP 9 South
CATEGORIES:QuickScores; Soccer - Adult Game
TRANSP:0
DALARM:20240724T171500;PT10M;2;All Nations vs. Richmond Reserves
END:VEVENT
BEGIN:VEVENT
DTSTART:20240731T181500
DTEND:20240731T191500
SUMMARY:Old and Young vs. All Nations
DESCRIPTION:Summer 7v7 Men's Soccer (Wednesday) - Missoula Parks & Recreation
LOCATION:FMRP 9 South
CATEGORIES:QuickScores; Soccer - Adult Game
TRANSP:0
DALARM:20240731T161500;PT10M;2;Old and Young vs. All Nations
END:VEVENT
BEGIN:VEVENT
DTSTART:20240807T191500
DTEND:20240807T201500
SUMMARY:Team 6 vs. All Nations
DESCRIPTION:Summer 7v7 Men's Soccer (Wednesday) - Missoula Parks & Recreation
LOCATION:FMRP Turf South
CATEGORIES:QuickScores; Soccer - Adult Game
TRANSP:0
DALARM:20240807T171500;PT10M;2;Team 6 vs. All Nations
END:VEVENT
BEGIN:VEVENT
DTSTART:20240814T191500
DTEND:20240814T201500
SUMMARY:Richmond Reserves vs. All Nations
DESCRIPTION:Summer 7v7 Men's Soccer (Wednesday) - Missoula Parks & Recreation
LOCATION:FMRP Turf South
CATEGORIES:QuickScores; Soccer - Adult Game
TRANSP:0
DALARM:20240814T171500;PT10M;2;Richmond Reserves vs. All Nations
END:VEVENT
BEGIN:VEVENT
DTSTART:20240821T181500
DTEND:20240821T191500
SUMMARY:[1] All Nations vs. [2] Old and Young
DESCRIPTION:Summer 7v7 Men's Soccer (Wednesday) - Missoula Parks & Recreation
LOCATION:FMRP Turf South
CATEGORIES:QuickScores; Soccer - Adult Game
TRANSP:0
DALARM:20240821T161500;PT10M;2;[1] All Nations vs. [2] Old and Young
END:VEVENT
END:VCALENDAR
