BEGIN:VCALENDAR
VERSION:1.0
BEGIN:VEVENT
DTSTART:20240603T181500
DTEND:20240603T191500
SUMMARY:Ctrl Alt Defeat vs. Alpine PT's C-Leaguered
DESCRIPTION:Sportsmanship - 4's --- Summer 11v11 Open Soccer (Monday C) - Missoula Parks & Recreation
LOCATION:Bella Vista Full Turf
CATEGORIES:QuickScores; Soccer - Adult Game
TRANSP:0
DALARM:20240603T161500;PT10M;2;Ctrl Alt Defeat vs. Alpine PT's C-Leaguered
END:VEVENT
BEGIN:VEVENT
DTSTART:20240610T194500
DTEND:20240610T204500
SUMMARY:Rocky Mountain Eye vs. Alpine PT's C-Leaguered
DESCRIPTION:Summer 11v11 Open Soccer (Monday C) - Missoula Parks & Recreation
LOCATION:Bella Vista Full Turf
CATEGORIES:QuickScores; Soccer - Adult Game
TRANSP:0
DALARM:20240610T174500;PT10M;2;Rocky Mountain Eye vs. Alpine PT's C-Leaguered
END:VEVENT
BEGIN:VEVENT
DTSTART:20240624T194500
DTEND:20240624T204500
SUMMARY:Alpine PT's C-Leaguered vs. Leisure League Legends
DESCRIPTION:Summer 11v11 Open Soccer (Monday C) - Missoula Parks & Recreation
LOCATION:FMRP Bowl Field 8
CATEGORIES:QuickScores; Soccer - Adult Game
TRANSP:0
DALARM:20240624T174500;PT10M;2;Alpine PT's C-Leaguered vs. Leisure League Legends
END:VEVENT
BEGIN:VEVENT
DTSTART:20240715T194500
DTEND:20240715T204500
SUMMARY:Leisure League Legends vs. Alpine PT's C-Leaguered
DESCRIPTION:Summer 11v11 Open Soccer (Monday C) - Missoula Parks & Recreation
LOCATION:FMRP Bowl Field 8
CATEGORIES:QuickScores; Soccer - Adult Game
TRANSP:0
DALARM:20240715T174500;PT10M;2;Leisure League Legends vs. Alpine PT's C-Leaguered
END:VEVENT
BEGIN:VEVENT
DTSTART:20240729T194500
DTEND:20240729T204500
SUMMARY:Alpine PT's C-Leaguered vs. Rocky Mountain Eye
DESCRIPTION:Summer 11v11 Open Soccer (Monday C) - Missoula Parks & Recreation
LOCATION:FMRP Bowl Field 8
CATEGORIES:QuickScores; Soccer - Adult Game
TRANSP:0
DALARM:20240729T174500;PT10M;2;Alpine PT's C-Leaguered vs. Rocky Mountain Eye
END:VEVENT
BEGIN:VEVENT
DTSTART:20240805T181500
DTEND:20240805T191500
SUMMARY:Alpine PT's C-Leaguered vs. Green Team 2.0
DESCRIPTION:Summer 11v11 Open Soccer (Monday C) - Missoula Parks & Recreation
LOCATION:FMRP Bowl Field 8
CATEGORIES:QuickScores; Soccer - Adult Game
TRANSP:0
DALARM:20240805T161500;PT10M;2;Alpine PT's C-Leaguered vs. Green Team 2.0
END:VEVENT
BEGIN:VEVENT
DTSTART:20240812T181500
DTEND:20240812T191500
SUMMARY:Alpine PT's C-Leaguered vs. Ctrl Alt Defeat
DESCRIPTION:Summer 11v11 Open Soccer (Monday C) - Missoula Parks & Recreation
LOCATION:FMRP Bowl Field 8
CATEGORIES:QuickScores; Soccer - Adult Game
TRANSP:0
DALARM:20240812T161500;PT10M;2;Alpine PT's C-Leaguered vs. Ctrl Alt Defeat
END:VEVENT
END:VCALENDAR
