BEGIN:VCALENDAR
VERSION:1.0
BEGIN:VEVENT
DTSTART:20260228T111500
DTEND:20260228T123000
SUMMARY:Ponytail Express vs. Diamond Dolls
DESCRIPTION:Mixed Spring 2026 - Montgomery Girls Sports Association
LOCATION:MGSA Field 9
CATEGORIES:QuickScores; Softball - Fastpitch Game
TRANSP:0
DALARM:20260228T091500;PT10M;2;Ponytail Express vs. Diamond Dolls
END:VEVENT
BEGIN:VEVENT
DTSTART:20260303T180000
DTEND:20260303T191500
SUMMARY:Thunder vs. Diamond Dolls
DESCRIPTION:Mixed Spring 2026 - Montgomery Girls Sports Association
LOCATION:MGSA Field 8
CATEGORIES:QuickScores; Softball - Fastpitch Game
TRANSP:0
DALARM:20260303T160000;PT10M;2;Thunder vs. Diamond Dolls
END:VEVENT
BEGIN:VEVENT
DTSTART:20260305T180000
DTEND:20260305T191500
SUMMARY:Diamond Dolls vs. Savages
DESCRIPTION:Mixed Spring 2026 - Montgomery Girls Sports Association
LOCATION:MGSA Field 9
CATEGORIES:QuickScores; Softball - Fastpitch Game
TRANSP:0
DALARM:20260305T160000;PT10M;2;Diamond Dolls vs. Savages
END:VEVENT
BEGIN:VEVENT
DTSTART:20260310T191500
DTEND:20260310T203000
SUMMARY:Diamond Dolls vs. Thunder
DESCRIPTION:Mixed Spring 2026 - Montgomery Girls Sports Association
LOCATION:MGSA Field 8
CATEGORIES:QuickScores; Softball - Fastpitch Game
TRANSP:0
DALARM:20260310T171500;PT10M;2;Diamond Dolls vs. Thunder
END:VEVENT
BEGIN:VEVENT
DTSTART:20260312T191500
DTEND:20260312T203000
SUMMARY:Savages vs. Diamond Dolls
DESCRIPTION:Mixed Spring 2026 - Montgomery Girls Sports Association
LOCATION:MGSA Field 9
CATEGORIES:QuickScores; Softball - Fastpitch Game
TRANSP:0
DALARM:20260312T171500;PT10M;2;Savages vs. Diamond Dolls
END:VEVENT
BEGIN:VEVENT
DTSTART:20260324T191500
DTEND:20260324T203000
SUMMARY:Ponytail Express vs. Diamond Dolls
DESCRIPTION:Mixed Spring 2026 - Montgomery Girls Sports Association
LOCATION:MGSA Field 8
CATEGORIES:QuickScores; Softball - Fastpitch Game
TRANSP:0
DALARM:20260324T171500;PT10M;2;Ponytail Express vs. Diamond Dolls
END:VEVENT
BEGIN:VEVENT
DTSTART:20260326T191500
DTEND:20260326T203000
SUMMARY:Thunder vs. Diamond Dolls
DESCRIPTION:Called 3/26 with 43:01 remaining due to no lights in bottom of 2nd. Completed late after game on 4/9. --- Mixed Spring 2026 - Montgomery Girls Sports Association
LOCATION:MGSA Field 9
CATEGORIES:QuickScores; Softball - Fastpitch Game
TRANSP:0
DALARM:20260326T171500;PT10M;2;Thunder vs. Diamond Dolls
END:VEVENT
BEGIN:VEVENT
DTSTART:20260331T180000
DTEND:20260331T191500
SUMMARY:Diamond Dolls vs. Savages
DESCRIPTION:Mixed Spring 2026 - Montgomery Girls Sports Association
LOCATION:MGSA Field 8
CATEGORIES:QuickScores; Softball - Fastpitch Game
TRANSP:0
DALARM:20260331T160000;PT10M;2;Diamond Dolls vs. Savages
END:VEVENT
BEGIN:VEVENT
DTSTART:20260407T191500
DTEND:20260407T203000
SUMMARY:Savages vs. Diamond Dolls
DESCRIPTION:Mixed Spring 2026 - Montgomery Girls Sports Association
LOCATION:MGSA Field 8
CATEGORIES:QuickScores; Softball - Fastpitch Game
TRANSP:0
DALARM:20260407T171500;PT10M;2;Savages vs. Diamond Dolls
END:VEVENT
BEGIN:VEVENT
DTSTART:20260409T191500
DTEND:20260409T203000
SUMMARY:Diamond Dolls vs. Thunder
DESCRIPTION:PLEASE STAY AFTER TO FINISH GAME FROM 3/26. --- Mixed Spring 2026 - Montgomery Girls Sports Association
LOCATION:MGSA Field 9
CATEGORIES:QuickScores; Softball - Fastpitch Game
TRANSP:0
DALARM:20260409T171500;PT10M;2;Diamond Dolls vs. Thunder
END:VEVENT
BEGIN:VEVENT
DTSTART:20260414T180000
DTEND:20260414T191500
SUMMARY:Diamond Dolls vs. Ponytail Express
DESCRIPTION:Mixed Spring 2026 - Montgomery Girls Sports Association
LOCATION:MGSA Field 9
CATEGORIES:QuickScores; Softball - Fastpitch Game
TRANSP:0
DALARM:20260414T160000;PT10M;2;Diamond Dolls vs. Ponytail Express
END:VEVENT
BEGIN:VEVENT
DTSTART:20260416T180000
DTEND:20260416T191500
SUMMARY:Diamond Dolls vs. Ponytail Express
DESCRIPTION:RAIN OUT - RESCHEDULE FROM 4/2 --- Mixed Spring 2026 - Montgomery Girls Sports Association
LOCATION:MGSA Field 9
CATEGORIES:QuickScores; Softball - Fastpitch Game
TRANSP:0
DALARM:20260416T160000;PT10M;2;Diamond Dolls vs. Ponytail Express
END:VEVENT
END:VCALENDAR
