BEGIN:VCALENDAR
VERSION:1.0
BEGIN:VEVENT
DTSTART:20260228T100000
DTEND:20260228T111500
SUMMARY:Bluebonnet Bombers vs. Blaze
DESCRIPTION:Forfeited by Blaze due to pitcher pick up player. --- 10U Spring 2026 - Montgomery Girls Sports Association
LOCATION:MGSA Field 8
CATEGORIES:QuickScores; Softball - Fastpitch Game
TRANSP:0
DALARM:20260228T080000;PT10M;2;Bluebonnet Bombers vs. Blaze
END:VEVENT
BEGIN:VEVENT
DTSTART:20260302T180000
DTEND:20260302T191500
SUMMARY:Blaze vs. Texas Belles
DESCRIPTION:10U Spring 2026 - Montgomery Girls Sports Association
LOCATION:MGSA Field 8
CATEGORIES:QuickScores; Softball - Fastpitch Game
TRANSP:0
DALARM:20260302T160000;PT10M;2;Blaze vs. Texas Belles
END:VEVENT
BEGIN:VEVENT
DTSTART:20260305T191500
DTEND:20260305T203000
SUMMARY:Riptide Rebels vs. Blaze
DESCRIPTION:10U Spring 2026 - Montgomery Girls Sports Association
LOCATION:MGSA Field 8
CATEGORIES:QuickScores; Softball - Fastpitch Game
TRANSP:0
DALARM:20260305T171500;PT10M;2;Riptide Rebels vs. Blaze
END:VEVENT
BEGIN:VEVENT
DTSTART:20260307T111500
DTEND:20260307T123000
SUMMARY:Blaze vs. Rocket Goats
DESCRIPTION:10U Spring 2026 - Montgomery Girls Sports Association
LOCATION:MGSA Field 8
CATEGORIES:QuickScores; Softball - Fastpitch Game
TRANSP:0
DALARM:20260307T091500;PT10M;2;Blaze vs. Rocket Goats
END:VEVENT
BEGIN:VEVENT
DTSTART:20260312T180000
DTEND:20260312T191500
SUMMARY:Blaze vs. Bluebonnet Bombers
DESCRIPTION:10U Spring 2026 - Montgomery Girls Sports Association
LOCATION:MGSA Field 8
CATEGORIES:QuickScores; Softball - Fastpitch Game
TRANSP:0
DALARM:20260312T160000;PT10M;2;Blaze vs. Bluebonnet Bombers
END:VEVENT
BEGIN:VEVENT
DTSTART:20260323T191500
DTEND:20260323T203000
SUMMARY:Texas Belles vs. Blaze
DESCRIPTION:10U Spring 2026 - Montgomery Girls Sports Association
LOCATION:MGSA Field 8
CATEGORIES:QuickScores; Softball - Fastpitch Game
TRANSP:0
DALARM:20260323T171500;PT10M;2;Texas Belles vs. Blaze
END:VEVENT
BEGIN:VEVENT
DTSTART:20260326T180000
DTEND:20260326T191500
SUMMARY:Blaze vs. Riptide Rebels
DESCRIPTION:10U Spring 2026 - Montgomery Girls Sports Association
LOCATION:MGSA Field 8
CATEGORIES:QuickScores; Softball - Fastpitch Game
TRANSP:0
DALARM:20260326T160000;PT10M;2;Blaze vs. Riptide Rebels
END:VEVENT
BEGIN:VEVENT
DTSTART:20260406T191500
DTEND:20260406T203000
SUMMARY:Blaze vs. Texas Belles
DESCRIPTION:10U Spring 2026 - Montgomery Girls Sports Association
LOCATION:MGSA Field 8
CATEGORIES:QuickScores; Softball - Fastpitch Game
TRANSP:0
DALARM:20260406T171500;PT10M;2;Blaze vs. Texas Belles
END:VEVENT
BEGIN:VEVENT
DTSTART:20260409T180000
DTEND:20260409T191500
SUMMARY:Riptide Rebels vs. Blaze
DESCRIPTION:10U Spring 2026 - Montgomery Girls Sports Association
LOCATION:MGSA Field 8
CATEGORIES:QuickScores; Softball - Fastpitch Game
TRANSP:0
DALARM:20260409T160000;PT10M;2;Riptide Rebels vs. Blaze
END:VEVENT
BEGIN:VEVENT
DTSTART:20260413T180000
DTEND:20260413T191500
SUMMARY:Blaze vs. Rocket Goats
DESCRIPTION:10U Spring 2026 - Montgomery Girls Sports Association
LOCATION:MGSA Field 8
CATEGORIES:QuickScores; Softball - Fastpitch Game
TRANSP:0
DALARM:20260413T160000;PT10M;2;Blaze vs. Rocket Goats
END:VEVENT
BEGIN:VEVENT
DTSTART:20260416T191500
DTEND:20260416T203000
SUMMARY:Bluebonnet Bombers vs. Blaze
DESCRIPTION:RAIN OUT - RESCHEDULE FROM 4/2 --- 10U Spring 2026 - Montgomery Girls Sports Association
LOCATION:MGSA Field 8
CATEGORIES:QuickScores; Softball - Fastpitch Game
TRANSP:0
DALARM:20260416T171500;PT10M;2;Bluebonnet Bombers vs. Blaze
END:VEVENT
BEGIN:VEVENT
DTSTART:20260418T093000
DTEND:20260418T104500
SUMMARY:Rocket Goats vs. Blaze
DESCRIPTION:RESCHEDULE FROM 3/28 DUE TO HEAVY TRASH. RAINED OUT ON ORIGINAL MAKEUP DAY OF 4/10. --- 10U Spring 2026 - Montgomery Girls Sports Association
LOCATION:MGSA Field 8
CATEGORIES:QuickScores; Softball - Fastpitch Game
TRANSP:0
DALARM:20260418T073000;PT10M;2;Rocket Goats vs. Blaze
END:VEVENT
END:VCALENDAR
