BEGIN:VCALENDAR
VERSION:1.0
BEGIN:VEVENT
DTSTART:20260302T191500
DTEND:20260302T203000
SUMMARY:Bluebonnet Bombers vs. Riptide Rebels
DESCRIPTION:10U Spring 2026 - Montgomery Girls Sports Association
LOCATION:MGSA Field 8
CATEGORIES:QuickScores; Softball - Fastpitch Game
TRANSP:0
DALARM:20260302T171500;PT10M;2;Bluebonnet Bombers vs. Riptide Rebels
END:VEVENT
BEGIN:VEVENT
DTSTART:20260305T191500
DTEND:20260305T203000
SUMMARY:Riptide Rebels vs. Blaze
DESCRIPTION:10U Spring 2026 - Montgomery Girls Sports Association
LOCATION:MGSA Field 8
CATEGORIES:QuickScores; Softball - Fastpitch Game
TRANSP:0
DALARM:20260305T171500;PT10M;2;Riptide Rebels vs. Blaze
END:VEVENT
BEGIN:VEVENT
DTSTART:20260307T100000
DTEND:20260307T111500
SUMMARY:Texas Belles vs. Riptide Rebels
DESCRIPTION:10U Spring 2026 - Montgomery Girls Sports Association
LOCATION:MGSA Field 8
CATEGORIES:QuickScores; Softball - Fastpitch Game
TRANSP:0
DALARM:20260307T080000;PT10M;2;Texas Belles vs. Riptide Rebels
END:VEVENT
BEGIN:VEVENT
DTSTART:20260309T180000
DTEND:20260309T191500
SUMMARY:Riptide Rebels vs. Rocket Goats
DESCRIPTION:10U Spring 2026 - Montgomery Girls Sports Association
LOCATION:MGSA Field 8
CATEGORIES:QuickScores; Softball - Fastpitch Game
TRANSP:0
DALARM:20260309T160000;PT10M;2;Riptide Rebels vs. Rocket Goats
END:VEVENT
BEGIN:VEVENT
DTSTART:20260323T180000
DTEND:20260323T191500
SUMMARY:Riptide Rebels vs. Bluebonnet Bombers
DESCRIPTION:10U Spring 2026 - Montgomery Girls Sports Association
LOCATION:MGSA Field 8
CATEGORIES:QuickScores; Softball - Fastpitch Game
TRANSP:0
DALARM:20260323T160000;PT10M;2;Riptide Rebels vs. Bluebonnet Bombers
END:VEVENT
BEGIN:VEVENT
DTSTART:20260326T180000
DTEND:20260326T191500
SUMMARY:Blaze vs. Riptide Rebels
DESCRIPTION:10U Spring 2026 - Montgomery Girls Sports Association
LOCATION:MGSA Field 8
CATEGORIES:QuickScores; Softball - Fastpitch Game
TRANSP:0
DALARM:20260326T160000;PT10M;2;Blaze vs. Riptide Rebels
END:VEVENT
BEGIN:VEVENT
DTSTART:20260330T191500
DTEND:20260330T203000
SUMMARY:Rocket Goats vs. Riptide Rebels
DESCRIPTION:10U Spring 2026 - Montgomery Girls Sports Association
LOCATION:MGSA Field 8
CATEGORIES:QuickScores; Softball - Fastpitch Game
TRANSP:0
DALARM:20260330T171500;PT10M;2;Rocket Goats vs. Riptide Rebels
END:VEVENT
BEGIN:VEVENT
DTSTART:20260406T180000
DTEND:20260406T191500
SUMMARY:Bluebonnet Bombers vs. Riptide Rebels
DESCRIPTION:10U Spring 2026 - Montgomery Girls Sports Association
LOCATION:MGSA Field 8
CATEGORIES:QuickScores; Softball - Fastpitch Game
TRANSP:0
DALARM:20260406T160000;PT10M;2;Bluebonnet Bombers vs. Riptide Rebels
END:VEVENT
BEGIN:VEVENT
DTSTART:20260409T180000
DTEND:20260409T191500
SUMMARY:Riptide Rebels vs. Blaze
DESCRIPTION:10U Spring 2026 - Montgomery Girls Sports Association
LOCATION:MGSA Field 8
CATEGORIES:QuickScores; Softball - Fastpitch Game
TRANSP:0
DALARM:20260409T160000;PT10M;2;Riptide Rebels vs. Blaze
END:VEVENT
BEGIN:VEVENT
DTSTART:20260413T191500
DTEND:20260413T203000
SUMMARY:Texas Belles vs. Riptide Rebels
DESCRIPTION:10U Spring 2026 - Montgomery Girls Sports Association
LOCATION:MGSA Field 8
CATEGORIES:QuickScores; Softball - Fastpitch Game
TRANSP:0
DALARM:20260413T171500;PT10M;2;Texas Belles vs. Riptide Rebels
END:VEVENT
BEGIN:VEVENT
DTSTART:20260414T191500
DTEND:20260414T203000
SUMMARY:Riptide Rebels vs. Rocket Goats
DESCRIPTION:10U Spring 2026 - Montgomery Girls Sports Association
LOCATION:MGSA Field 8
CATEGORIES:QuickScores; Softball - Fastpitch Game
TRANSP:0
DALARM:20260414T171500;PT10M;2;Riptide Rebels vs. Rocket Goats
END:VEVENT
BEGIN:VEVENT
DTSTART:20260418T104500
DTEND:20260418T120000
SUMMARY:Riptide Rebels vs. Texas Belles
DESCRIPTION:RESCHEDULE FROM 3/28 DUE TO HEAVY TRASH. RAINED OUT ON ORIGINAL MAKEUP DAY OF 4/10. --- 10U Spring 2026 - Montgomery Girls Sports Association
LOCATION:MGSA Field 8
CATEGORIES:QuickScores; Softball - Fastpitch Game
TRANSP:0
DALARM:20260418T084500;PT10M;2;Riptide Rebels vs. Texas Belles
END:VEVENT
END:VCALENDAR
