BEGIN:VCALENDAR
VERSION:1.0
BEGIN:VEVENT
DTSTART:20250916T191500
DTEND:20250916T203000
SUMMARY:The Enforcers vs. Dino-Mites
DESCRIPTION:8U Fall 2025 - Montgomery Girls Sports Association
LOCATION:MGSA Field 7
CATEGORIES:QuickScores; Softball - Fastpitch Game
TRANSP:0
DALARM:20250916T171500;PT10M;2;The Enforcers vs. Dino-Mites
END:VEVENT
BEGIN:VEVENT
DTSTART:20250923T191500
DTEND:20250923T203000
SUMMARY:Dino-Mites vs. Pink Sharks
DESCRIPTION:8U Fall 2025 - Montgomery Girls Sports Association
LOCATION:MGSA Field 7
CATEGORIES:QuickScores; Softball - Fastpitch Game
TRANSP:0
DALARM:20250923T171500;PT10M;2;Dino-Mites vs. Pink Sharks
END:VEVENT
BEGIN:VEVENT
DTSTART:20250925T180000
DTEND:20250925T191500
SUMMARY:Dino-Mites vs. Shooting Stars
DESCRIPTION:8U Fall 2025 - Montgomery Girls Sports Association
LOCATION:MGSA Field 7
CATEGORIES:QuickScores; Softball - Fastpitch Game
TRANSP:0
DALARM:20250925T160000;PT10M;2;Dino-Mites vs. Shooting Stars
END:VEVENT
BEGIN:VEVENT
DTSTART:20250929T191500
DTEND:20250929T203000
SUMMARY:Dino-Mites vs. Mud Hens
DESCRIPTION:8U Fall 2025 - Montgomery Girls Sports Association
LOCATION:MGSA Field 7
CATEGORIES:QuickScores; Softball - Fastpitch Game
TRANSP:0
DALARM:20250929T171500;PT10M;2;Dino-Mites vs. Mud Hens
END:VEVENT
BEGIN:VEVENT
DTSTART:20250930T180000
DTEND:20250930T191500
SUMMARY:Party Animals vs. Dino-Mites
DESCRIPTION:8U Fall 2025 - Montgomery Girls Sports Association
LOCATION:MGSA Field 6
CATEGORIES:QuickScores; Softball - Fastpitch Game
TRANSP:0
DALARM:20250930T160000;PT10M;2;Party Animals vs. Dino-Mites
END:VEVENT
BEGIN:VEVENT
DTSTART:20250930T191500
DTEND:20250930T203000
SUMMARY:Pink Sharks vs. Dino-Mites
DESCRIPTION:8U Fall 2025 - Montgomery Girls Sports Association
LOCATION:MGSA Field 6
CATEGORIES:QuickScores; Softball - Fastpitch Game
TRANSP:0
DALARM:20250930T171500;PT10M;2;Pink Sharks vs. Dino-Mites
END:VEVENT
BEGIN:VEVENT
DTSTART:20251006T180000
DTEND:20251006T191500
SUMMARY:Sod Poodles vs. Dino-Mites
DESCRIPTION:8U Fall 2025 - Montgomery Girls Sports Association
LOCATION:MGSA Field 7
CATEGORIES:QuickScores; Softball - Fastpitch Game
TRANSP:0
DALARM:20251006T160000;PT10M;2;Sod Poodles vs. Dino-Mites
END:VEVENT
BEGIN:VEVENT
DTSTART:20251014T191500
DTEND:20251014T203000
SUMMARY:Mud Hens vs. Dino-Mites
DESCRIPTION:8U Fall 2025 - Montgomery Girls Sports Association
LOCATION:MGSA Field 7
CATEGORIES:QuickScores; Softball - Fastpitch Game
TRANSP:0
DALARM:20251014T171500;PT10M;2;Mud Hens vs. Dino-Mites
END:VEVENT
BEGIN:VEVENT
DTSTART:20251021T180000
DTEND:20251021T191500
SUMMARY:Shooting Stars vs. Dino-Mites
DESCRIPTION:8U Fall 2025 - Montgomery Girls Sports Association
LOCATION:MGSA Field 7
CATEGORIES:QuickScores; Softball - Fastpitch Game
TRANSP:0
DALARM:20251021T160000;PT10M;2;Shooting Stars vs. Dino-Mites
END:VEVENT
BEGIN:VEVENT
DTSTART:20251023T191500
DTEND:20251023T203000
SUMMARY:Dino-Mites vs. Party Animals
DESCRIPTION:8U Fall 2025 - Montgomery Girls Sports Association
LOCATION:MGSA Field 7
CATEGORIES:QuickScores; Softball - Fastpitch Game
TRANSP:0
DALARM:20251023T171500;PT10M;2;Dino-Mites vs. Party Animals
END:VEVENT
BEGIN:VEVENT
DTSTART:20251028T191500
DTEND:20251028T203000
SUMMARY:Dino-Mites vs. The Enforcers
DESCRIPTION:8U Fall 2025 - Montgomery Girls Sports Association
LOCATION:MGSA Field 7
CATEGORIES:QuickScores; Softball - Fastpitch Game
TRANSP:0
DALARM:20251028T171500;PT10M;2;Dino-Mites vs. The Enforcers
END:VEVENT
BEGIN:VEVENT
DTSTART:20251030T191500
DTEND:20251030T203000
SUMMARY:Dino-Mites vs. Sod Poodles
DESCRIPTION:8U Fall 2025 - Montgomery Girls Sports Association
LOCATION:MGSA Field 7
CATEGORIES:QuickScores; Softball - Fastpitch Game
TRANSP:0
DALARM:20251030T171500;PT10M;2;Dino-Mites vs. Sod Poodles
END:VEVENT
END:VCALENDAR
