BEGIN:VCALENDAR
VERSION:1.0
BEGIN:VEVENT
DTSTART:20250915T180000
DTEND:20250915T191500
SUMMARY:Texas Tornados vs. Cyclones
DESCRIPTION:6U Fall 2025 - Montgomery Girls Sports Association
LOCATION:MGSA Field 6
CATEGORIES:QuickScores; Softball - Fastpitch Game
TRANSP:0
DALARM:20250915T160000;PT10M;2;Texas Tornados vs. Cyclones
END:VEVENT
BEGIN:VEVENT
DTSTART:20250918T180000
DTEND:20250918T191500
SUMMARY:Supernova Softball vs. Cyclones
DESCRIPTION:6U Fall 2025 - Montgomery Girls Sports Association
LOCATION:MGSA Field 6
CATEGORIES:QuickScores; Softball - Fastpitch Game
TRANSP:0
DALARM:20250918T160000;PT10M;2;Supernova Softball vs. Cyclones
END:VEVENT
BEGIN:VEVENT
DTSTART:20250925T180000
DTEND:20250925T191500
SUMMARY:Cyclones vs. Slugging Unicorns
DESCRIPTION:6U Fall 2025 - Montgomery Girls Sports Association
LOCATION:MGSA Field 6
CATEGORIES:QuickScores; Softball - Fastpitch Game
TRANSP:0
DALARM:20250925T160000;PT10M;2;Cyclones vs. Slugging Unicorns
END:VEVENT
BEGIN:VEVENT
DTSTART:20250929T191500
DTEND:20250929T203000
SUMMARY:Cyclones vs. Fireflies
DESCRIPTION:6U Fall 2025 - Montgomery Girls Sports Association
LOCATION:MGSA Field 6
CATEGORIES:QuickScores; Softball - Fastpitch Game
TRANSP:0
DALARM:20250929T171500;PT10M;2;Cyclones vs. Fireflies
END:VEVENT
BEGIN:VEVENT
DTSTART:20251002T180000
DTEND:20251002T191500
SUMMARY:Cyclones vs. Texas Tornados
DESCRIPTION:6U Fall 2025 - Montgomery Girls Sports Association
LOCATION:MGSA Field 6
CATEGORIES:QuickScores; Softball - Fastpitch Game
TRANSP:0
DALARM:20251002T160000;PT10M;2;Cyclones vs. Texas Tornados
END:VEVENT
BEGIN:VEVENT
DTSTART:20251006T191500
DTEND:20251006T203000
SUMMARY:Cyclones vs. Supernova Softball
DESCRIPTION:6U Fall 2025 - Montgomery Girls Sports Association
LOCATION:MGSA Field 6
CATEGORIES:QuickScores; Softball - Fastpitch Game
TRANSP:0
DALARM:20251006T171500;PT10M;2;Cyclones vs. Supernova Softball
END:VEVENT
BEGIN:VEVENT
DTSTART:20251016T191500
DTEND:20251016T203000
SUMMARY:Slugging Unicorns vs. Cyclones
DESCRIPTION:6U Fall 2025 - Montgomery Girls Sports Association
LOCATION:MGSA Field 6
CATEGORIES:QuickScores; Softball - Fastpitch Game
TRANSP:0
DALARM:20251016T171500;PT10M;2;Slugging Unicorns vs. Cyclones
END:VEVENT
BEGIN:VEVENT
DTSTART:20251020T180000
DTEND:20251020T191500
SUMMARY:Fireflies vs. Cyclones
DESCRIPTION:6U Fall 2025 - Montgomery Girls Sports Association
LOCATION:MGSA Field 6
CATEGORIES:QuickScores; Softball - Fastpitch Game
TRANSP:0
DALARM:20251020T160000;PT10M;2;Fireflies vs. Cyclones
END:VEVENT
BEGIN:VEVENT
DTSTART:20251021T180000
DTEND:20251021T191500
SUMMARY:Texas Tornados vs. Cyclones
DESCRIPTION:6U Fall 2025 - Montgomery Girls Sports Association
LOCATION:MGSA Field 6
CATEGORIES:QuickScores; Softball - Fastpitch Game
TRANSP:0
DALARM:20251021T160000;PT10M;2;Texas Tornados vs. Cyclones
END:VEVENT
BEGIN:VEVENT
DTSTART:20251023T191500
DTEND:20251023T203000
SUMMARY:Supernova Softball vs. Cyclones
DESCRIPTION:6U Fall 2025 - Montgomery Girls Sports Association
LOCATION:MGSA Field 6
CATEGORIES:QuickScores; Softball - Fastpitch Game
TRANSP:0
DALARM:20251023T171500;PT10M;2;Supernova Softball vs. Cyclones
END:VEVENT
BEGIN:VEVENT
DTSTART:20251028T191500
DTEND:20251028T203000
SUMMARY:Cyclones vs. Slugging Unicorns
DESCRIPTION:6U Fall 2025 - Montgomery Girls Sports Association
LOCATION:MGSA Field 6
CATEGORIES:QuickScores; Softball - Fastpitch Game
TRANSP:0
DALARM:20251028T171500;PT10M;2;Cyclones vs. Slugging Unicorns
END:VEVENT
BEGIN:VEVENT
DTSTART:20251030T180000
DTEND:20251030T191500
SUMMARY:Cyclones vs. Fireflies
DESCRIPTION:6U Fall 2025 - Montgomery Girls Sports Association
LOCATION:MGSA Field 6
CATEGORIES:QuickScores; Softball - Fastpitch Game
TRANSP:0
DALARM:20251030T160000;PT10M;2;Cyclones vs. Fireflies
END:VEVENT
END:VCALENDAR
