BEGIN:VCALENDAR
VERSION:1.0
BEGIN:VEVENT
DTSTART:20240916T191500
DTEND:20240916T203000
SUMMARY:Space Cowgirls vs. Avalanche
DESCRIPTION:12U Mixed Fall 2024 - Montgomery Girls Sports Association
LOCATION:MGSA Field 9
CATEGORIES:QuickScores; Softball - Fastpitch Game
TRANSP:0
DALARM:20240916T171500;PT10M;2;Space Cowgirls vs. Avalanche
END:VEVENT
BEGIN:VEVENT
DTSTART:20240919T191500
DTEND:20240919T203000
SUMMARY:Avalanche vs. Coach Williams
DESCRIPTION:12U Mixed Fall 2024 - Montgomery Girls Sports Association
LOCATION:MGSA Field 8
CATEGORIES:QuickScores; Softball - Fastpitch Game
TRANSP:0
DALARM:20240919T171500;PT10M;2;Avalanche vs. Coach Williams
END:VEVENT
BEGIN:VEVENT
DTSTART:20240923T180000
DTEND:20240923T191500
SUMMARY:Iron Pigs vs. Avalanche
DESCRIPTION:12U Mixed Fall 2024 - Montgomery Girls Sports Association
LOCATION:MGSA Field 8
CATEGORIES:QuickScores; Softball - Fastpitch Game
TRANSP:0
DALARM:20240923T160000;PT10M;2;Iron Pigs vs. Avalanche
END:VEVENT
BEGIN:VEVENT
DTSTART:20240926T191500
DTEND:20240926T203000
SUMMARY:Avalanche vs. Bombers
DESCRIPTION:12U Mixed Fall 2024 - Montgomery Girls Sports Association
LOCATION:MGSA Field 9
CATEGORIES:QuickScores; Softball - Fastpitch Game
TRANSP:0
DALARM:20240926T171500;PT10M;2;Avalanche vs. Bombers
END:VEVENT
BEGIN:VEVENT
DTSTART:20240930T191500
DTEND:20240930T203000
SUMMARY:Arctic Blast vs. Avalanche
DESCRIPTION:12U Mixed Fall 2024 - Montgomery Girls Sports Association
LOCATION:MGSA Field 8
CATEGORIES:QuickScores; Softball - Fastpitch Game
TRANSP:0
DALARM:20240930T171500;PT10M;2;Arctic Blast vs. Avalanche
END:VEVENT
BEGIN:VEVENT
DTSTART:20241003T191500
DTEND:20241003T203000
SUMMARY:Avalanche vs. Thunder
DESCRIPTION:12U Mixed Fall 2024 - Montgomery Girls Sports Association
LOCATION:MGSA Field 8
CATEGORIES:QuickScores; Softball - Fastpitch Game
TRANSP:0
DALARM:20241003T171500;PT10M;2;Avalanche vs. Thunder
END:VEVENT
BEGIN:VEVENT
DTSTART:20241007T180000
DTEND:20241007T191500
SUMMARY:Smokin Bases vs. Avalanche
DESCRIPTION:12U Mixed Fall 2024 - Montgomery Girls Sports Association
LOCATION:MGSA Field 8
CATEGORIES:QuickScores; Softball - Fastpitch Game
TRANSP:0
DALARM:20241007T160000;PT10M;2;Smokin Bases vs. Avalanche
END:VEVENT
BEGIN:VEVENT
DTSTART:20241008T191500
DTEND:20241008T203000
SUMMARY:Avalanche vs. Space Cowgirls
DESCRIPTION:12U Mixed Fall 2024 - Montgomery Girls Sports Association
LOCATION:MGSA Field 9
CATEGORIES:QuickScores; Softball - Fastpitch Game
TRANSP:0
DALARM:20241008T171500;PT10M;2;Avalanche vs. Space Cowgirls
END:VEVENT
BEGIN:VEVENT
DTSTART:20241017T191500
DTEND:20241017T203000
SUMMARY:Coach Williams vs. Avalanche
DESCRIPTION:12U Mixed Fall 2024 - Montgomery Girls Sports Association
LOCATION:MGSA Field 9
CATEGORIES:QuickScores; Softball - Fastpitch Game
TRANSP:0
DALARM:20241017T171500;PT10M;2;Coach Williams vs. Avalanche
END:VEVENT
BEGIN:VEVENT
DTSTART:20241021T191500
DTEND:20241021T203000
SUMMARY:Avalanche vs. Iron Pigs
DESCRIPTION:12U Mixed Fall 2024 - Montgomery Girls Sports Association
LOCATION:MGSA Field 8
CATEGORIES:QuickScores; Softball - Fastpitch Game
TRANSP:0
DALARM:20241021T171500;PT10M;2;Avalanche vs. Iron Pigs
END:VEVENT
BEGIN:VEVENT
DTSTART:20241022T180000
DTEND:20241022T191500
SUMMARY:Bombers vs. Avalanche
DESCRIPTION:12U Mixed Fall 2024 - Montgomery Girls Sports Association
LOCATION:MGSA Field 9
CATEGORIES:QuickScores; Softball - Fastpitch Game
TRANSP:0
DALARM:20241022T160000;PT10M;2;Bombers vs. Avalanche
END:VEVENT
BEGIN:VEVENT
DTSTART:20241024T180000
DTEND:20241024T191500
SUMMARY:Avalanche vs. Arctic Blast
DESCRIPTION:12U Mixed Fall 2024 - Montgomery Girls Sports Association
LOCATION:MGSA Field 9
CATEGORIES:QuickScores; Softball - Fastpitch Game
TRANSP:0
DALARM:20241024T160000;PT10M;2;Avalanche vs. Arctic Blast
END:VEVENT
BEGIN:VEVENT
DTSTART:20241028T180000
DTEND:20241028T191500
SUMMARY:Thunder vs. Avalanche
DESCRIPTION:12U Mixed Fall 2024 - Montgomery Girls Sports Association
LOCATION:MGSA Field 9
CATEGORIES:QuickScores; Softball - Fastpitch Game
TRANSP:0
DALARM:20241028T160000;PT10M;2;Thunder vs. Avalanche
END:VEVENT
BEGIN:VEVENT
DTSTART:20241029T180000
DTEND:20241029T191500
SUMMARY:Avalanche vs. Smokin Bases
DESCRIPTION:12U Mixed Fall 2024 - Montgomery Girls Sports Association
LOCATION:MGSA Field 8
CATEGORIES:QuickScores; Softball - Fastpitch Game
TRANSP:0
DALARM:20241029T160000;PT10M;2;Avalanche vs. Smokin Bases
END:VEVENT
END:VCALENDAR
