BEGIN:VCALENDAR
VERSION:1.0
BEGIN:VEVENT
DTSTART:20240916T180000
DTEND:20240916T191500
SUMMARY:Iron Pigs vs. Arctic Blast
DESCRIPTION:12U Mixed Fall 2024 - Montgomery Girls Sports Association
LOCATION:MGSA Field 8
CATEGORIES:QuickScores; Softball - Fastpitch Game
TRANSP:0
DALARM:20240916T160000;PT10M;2;Iron Pigs vs. Arctic Blast
END:VEVENT
BEGIN:VEVENT
DTSTART:20240919T180000
DTEND:20240919T191500
SUMMARY:Smokin Bases vs. Iron Pigs
DESCRIPTION:12U Mixed Fall 2024 - Montgomery Girls Sports Association
LOCATION:MGSA Field 8
CATEGORIES:QuickScores; Softball - Fastpitch Game
TRANSP:0
DALARM:20240919T160000;PT10M;2;Smokin Bases vs. Iron Pigs
END:VEVENT
BEGIN:VEVENT
DTSTART:20240923T180000
DTEND:20240923T191500
SUMMARY:Iron Pigs vs. Avalanche
DESCRIPTION:12U Mixed Fall 2024 - Montgomery Girls Sports Association
LOCATION:MGSA Field 8
CATEGORIES:QuickScores; Softball - Fastpitch Game
TRANSP:0
DALARM:20240923T160000;PT10M;2;Iron Pigs vs. Avalanche
END:VEVENT
BEGIN:VEVENT
DTSTART:20240926T191500
DTEND:20240926T203000
SUMMARY:Space Cowgirls vs. Iron Pigs
DESCRIPTION:12U Mixed Fall 2024 - Montgomery Girls Sports Association
LOCATION:MGSA Field 8
CATEGORIES:QuickScores; Softball - Fastpitch Game
TRANSP:0
DALARM:20240926T171500;PT10M;2;Space Cowgirls vs. Iron Pigs
END:VEVENT
BEGIN:VEVENT
DTSTART:20240930T180000
DTEND:20240930T191500
SUMMARY:Iron Pigs vs. Thunder
DESCRIPTION:12U Mixed Fall 2024 - Montgomery Girls Sports Association
LOCATION:MGSA Field 8
CATEGORIES:QuickScores; Softball - Fastpitch Game
TRANSP:0
DALARM:20240930T160000;PT10M;2;Iron Pigs vs. Thunder
END:VEVENT
BEGIN:VEVENT
DTSTART:20241003T180000
DTEND:20241003T191500
SUMMARY:Coach Williams vs. Iron Pigs
DESCRIPTION:12U Mixed Fall 2024 - Montgomery Girls Sports Association
LOCATION:MGSA Field 8
CATEGORIES:QuickScores; Softball - Fastpitch Game
TRANSP:0
DALARM:20241003T160000;PT10M;2;Coach Williams vs. Iron Pigs
END:VEVENT
BEGIN:VEVENT
DTSTART:20241007T191500
DTEND:20241007T203000
SUMMARY:Bombers vs. Iron Pigs
DESCRIPTION:12U Mixed Fall 2024 - Montgomery Girls Sports Association
LOCATION:MGSA Field 8
CATEGORIES:QuickScores; Softball - Fastpitch Game
TRANSP:0
DALARM:20241007T171500;PT10M;2;Bombers vs. Iron Pigs
END:VEVENT
BEGIN:VEVENT
DTSTART:20241008T180000
DTEND:20241008T191500
SUMMARY:Arctic Blast vs. Iron Pigs
DESCRIPTION:12U Mixed Fall 2024 - Montgomery Girls Sports Association
LOCATION:MGSA Field 8
CATEGORIES:QuickScores; Softball - Fastpitch Game
TRANSP:0
DALARM:20241008T160000;PT10M;2;Arctic Blast vs. Iron Pigs
END:VEVENT
BEGIN:VEVENT
DTSTART:20241017T180000
DTEND:20241017T191500
SUMMARY:Iron Pigs vs. Smokin Bases
DESCRIPTION:12U Mixed Fall 2024 - Montgomery Girls Sports Association
LOCATION:MGSA Field 8
CATEGORIES:QuickScores; Softball - Fastpitch Game
TRANSP:0
DALARM:20241017T160000;PT10M;2;Iron Pigs vs. Smokin Bases
END:VEVENT
BEGIN:VEVENT
DTSTART:20241021T191500
DTEND:20241021T203000
SUMMARY:Avalanche vs. Iron Pigs
DESCRIPTION:12U Mixed Fall 2024 - Montgomery Girls Sports Association
LOCATION:MGSA Field 8
CATEGORIES:QuickScores; Softball - Fastpitch Game
TRANSP:0
DALARM:20241021T171500;PT10M;2;Avalanche vs. Iron Pigs
END:VEVENT
BEGIN:VEVENT
DTSTART:20241022T180000
DTEND:20241022T191500
SUMMARY:Iron Pigs vs. Space Cowgirls
DESCRIPTION:12U Mixed Fall 2024 - Montgomery Girls Sports Association
LOCATION:MGSA Field 8
CATEGORIES:QuickScores; Softball - Fastpitch Game
TRANSP:0
DALARM:20241022T160000;PT10M;2;Iron Pigs vs. Space Cowgirls
END:VEVENT
BEGIN:VEVENT
DTSTART:20241024T191500
DTEND:20241024T203000
SUMMARY:Thunder vs. Iron Pigs
DESCRIPTION:12U Mixed Fall 2024 - Montgomery Girls Sports Association
LOCATION:MGSA Field 8
CATEGORIES:QuickScores; Softball - Fastpitch Game
TRANSP:0
DALARM:20241024T171500;PT10M;2;Thunder vs. Iron Pigs
END:VEVENT
BEGIN:VEVENT
DTSTART:20241028T191500
DTEND:20241028T203000
SUMMARY:Iron Pigs vs. Coach Williams
DESCRIPTION:12U Mixed Fall 2024 - Montgomery Girls Sports Association
LOCATION:MGSA Field 8
CATEGORIES:QuickScores; Softball - Fastpitch Game
TRANSP:0
DALARM:20241028T171500;PT10M;2;Iron Pigs vs. Coach Williams
END:VEVENT
BEGIN:VEVENT
DTSTART:20241029T191500
DTEND:20241029T203000
SUMMARY:Iron Pigs vs. Bombers
DESCRIPTION:12U Mixed Fall 2024 - Montgomery Girls Sports Association
LOCATION:MGSA Field 8
CATEGORIES:QuickScores; Softball - Fastpitch Game
TRANSP:0
DALARM:20241029T171500;PT10M;2;Iron Pigs vs. Bombers
END:VEVENT
END:VCALENDAR
