BEGIN:VCALENDAR
VERSION:1.0
BEGIN:VEVENT
DTSTART:20201010T130000
DTEND:20201010T140000
SUMMARY:22-Freeze-Laurence vs. 23-Smashin Sweethearts-Rutherford
DESCRIPTION:MGSA Fall 2020 - TBall - Mansfield Girls Softball Association
LOCATION:McKnight Park - Field 5
CATEGORIES:QuickScores; Softball - Fastpitch Game
TRANSP:0
DALARM:20201010T110000;PT10M;2;22-Freeze-Laurence vs. 23-Smashin Sweethearts-Rutherford
END:VEVENT
BEGIN:VEVENT
DTSTART:20201010T140000
DTEND:20201010T150000
SUMMARY:22-Freeze-Laurence vs. 21-Pink Sox-Heard
DESCRIPTION:MGSA Fall 2020 - TBall - Mansfield Girls Softball Association
LOCATION:McKnight Park - Field 5
CATEGORIES:QuickScores; Softball - Fastpitch Game
TRANSP:0
DALARM:20201010T120000;PT10M;2;22-Freeze-Laurence vs. 21-Pink Sox-Heard
END:VEVENT
BEGIN:VEVENT
DTSTART:20201017T130000
DTEND:20201017T140000
SUMMARY:21-Pink Sox-Heard vs. 22-Freeze-Laurence
DESCRIPTION:MGSA Fall 2020 - TBall - Mansfield Girls Softball Association
LOCATION:McKnight Park - Field 5
CATEGORIES:QuickScores; Softball - Fastpitch Game
TRANSP:0
DALARM:20201017T110000;PT10M;2;21-Pink Sox-Heard vs. 22-Freeze-Laurence
END:VEVENT
BEGIN:VEVENT
DTSTART:20201017T140000
DTEND:20201017T150000
SUMMARY:23-Smashin Sweethearts-Rutherford vs. 22-Freeze-Laurence
DESCRIPTION:MGSA Fall 2020 - TBall - Mansfield Girls Softball Association
LOCATION:McKnight Park - Field 5
CATEGORIES:QuickScores; Softball - Fastpitch Game
TRANSP:0
DALARM:20201017T120000;PT10M;2;23-Smashin Sweethearts-Rutherford vs. 22-Freeze-Laurence
END:VEVENT
BEGIN:VEVENT
DTSTART:20201107T110000
DTEND:20201107T120000
SUMMARY:[2] 23-Smashin Sweethearts-Rutherford vs. [3] 22-Freeze-Laurence
DESCRIPTION:Game rescheduled from Sat 10/31/20, 11:00 AM at McKnight Park - Field 5 due to weather --- MGSA Fall 2020 - TBall - Mansfield Girls Softball Association
LOCATION:McKnight Park - Field 5
CATEGORIES:QuickScores; Softball - Fastpitch Game
TRANSP:0
DALARM:20201107T090000;PT10M;2;[2] 23-Smashin Sweethearts-Rutherford vs. [3] 22-Freeze-Laurence
END:VEVENT
BEGIN:VEVENT
DTSTART:20201107T120000
DTEND:20201107T130000
SUMMARY:[1] 21-Pink Sox-Heard vs. [3] 22-Freeze-Laurence
DESCRIPTION:Game rescheduled from Sat 10/31/20, 12:00 PM at McKnight Park - Field 5 due to weather --- MGSA Fall 2020 - TBall - Mansfield Girls Softball Association
LOCATION:McKnight Park - Field 5
CATEGORIES:QuickScores; Softball - Fastpitch Game
TRANSP:0
DALARM:20201107T100000;PT10M;2;[1] 21-Pink Sox-Heard vs. [3] 22-Freeze-Laurence
END:VEVENT
END:VCALENDAR
