BEGIN:VCALENDAR
VERSION:1.0
BEGIN:VEVENT
DTSTART:20260420T180000
DTEND:20260420T190000
SUMMARY:FS229712 vs. AM286007
DESCRIPTION:U7B - Lorain County Soccer League
LOCATION:FS 1
CATEGORIES:QuickScores; Soccer - Youth Game
TRANSP:0
DALARM:20260420T160000;PT10M;2;FS229712 vs. AM286007
END:VEVENT
BEGIN:VEVENT
DTSTART:20260425T113000
DTEND:20260425T123000
SUMMARY:MV039118 vs. AM286007
DESCRIPTION:U7B - Lorain County Soccer League
LOCATION:MVK
CATEGORIES:QuickScores; Soccer - Youth Game
TRANSP:0
DALARM:20260425T093000;PT10M;2;MV039118 vs. AM286007
END:VEVENT
BEGIN:VEVENT
DTSTART:20260502T113000
DTEND:20260502T123000
SUMMARY:WE287009 vs. AM286007
DESCRIPTION:U7B - Lorain County Soccer League
LOCATION:WE 1
CATEGORIES:QuickScores; Soccer - Youth Game
TRANSP:0
DALARM:20260502T093000;PT10M;2;WE287009 vs. AM286007
END:VEVENT
BEGIN:VEVENT
DTSTART:20260509T113000
DTEND:20260509T123000
SUMMARY:AM286007 vs. AM286077
DESCRIPTION:U7B - Lorain County Soccer League
LOCATION:AM 1
CATEGORIES:QuickScores; Soccer - Youth Game
TRANSP:0
DALARM:20260509T093000;PT10M;2;AM286007 vs. AM286077
END:VEVENT
BEGIN:VEVENT
DTSTART:20260516T113000
DTEND:20260516T123000
SUMMARY:OB343417 vs. AM286007
DESCRIPTION:U7B - Lorain County Soccer League
LOCATION:OB 7
CATEGORIES:QuickScores; Soccer - Youth Game
TRANSP:0
DALARM:20260516T093000;PT10M;2;OB343417 vs. AM286007
END:VEVENT
BEGIN:VEVENT
DTSTART:20260523T101500
DTEND:20260523T111500
SUMMARY:AM286007 vs. MV039117
DESCRIPTION:U7B - Lorain County Soccer League
LOCATION:AM 1
CATEGORIES:QuickScores; Soccer - Youth Game
TRANSP:0
DALARM:20260523T081500;PT10M;2;AM286007 vs. MV039117
END:VEVENT
BEGIN:VEVENT
DTSTART:20260530T113000
DTEND:20260530T123000
SUMMARY:AM286007 vs. VR533009
DESCRIPTION:U7B - Lorain County Soccer League
LOCATION:AM 1
CATEGORIES:QuickScores; Soccer - Youth Game
TRANSP:0
DALARM:20260530T093000;PT10M;2;AM286007 vs. VR533009
END:VEVENT
BEGIN:VEVENT
DTSTART:20260606T113000
DTEND:20260606T123000
SUMMARY:AM286007 vs. FS229712
DESCRIPTION:U7B - Lorain County Soccer League
LOCATION:AM 1
CATEGORIES:QuickScores; Soccer - Youth Game
TRANSP:0
DALARM:20260606T093000;PT10M;2;AM286007 vs. FS229712
END:VEVENT
END:VCALENDAR
