BEGIN:VCALENDAR
VERSION:1.0
BEGIN:VEVENT
DTSTART:20260418T000000
DTEND:20260418T000000
SUMMARY:EL/OD222 vs. LO330708
DESCRIPTION:U7A - Lorain County Soccer League
LOCATION:EF3
CATEGORIES:QuickScores; Soccer - Youth Game
TRANSP:0
DALARM:20260418T000000;PT10M;2;EL/OD222 vs. LO330708
END:VEVENT
BEGIN:VEVENT
DTSTART:20260425T113000
DTEND:20260425T123000
SUMMARY:EL/OD222 vs. FS229701
DESCRIPTION:U7A - Lorain County Soccer League
LOCATION:EF3
CATEGORIES:QuickScores; Soccer - Youth Game
TRANSP:0
DALARM:20260425T093000;PT10M;2;EL/OD222 vs. FS229701
END:VEVENT
BEGIN:VEVENT
DTSTART:20260502T101500
DTEND:20260502T111500
SUMMARY:EL/OD209 vs. EL/OD222
DESCRIPTION:U7A - Lorain County Soccer League
LOCATION:EF3
CATEGORIES:QuickScores; Soccer - Youth Game
TRANSP:0
DALARM:20260502T081500;PT10M;2;EL/OD209 vs. EL/OD222
END:VEVENT
BEGIN:VEVENT
DTSTART:20260509T101500
DTEND:20260509T111500
SUMMARY:EL/OD222 vs. WE287007
DESCRIPTION:U7A - Lorain County Soccer League
LOCATION:EF3
CATEGORIES:QuickScores; Soccer - Youth Game
TRANSP:0
DALARM:20260509T081500;PT10M;2;EL/OD222 vs. WE287007
END:VEVENT
BEGIN:VEVENT
DTSTART:20260516T101500
DTEND:20260516T111500
SUMMARY:LA123007 vs. EL/OD222
DESCRIPTION:U7A - Lorain County Soccer League
LOCATION:LA 1
CATEGORIES:QuickScores; Soccer - Youth Game
TRANSP:0
DALARM:20260516T081500;PT10M;2;LA123007 vs. EL/OD222
END:VEVENT
BEGIN:VEVENT
DTSTART:20260530T101500
DTEND:20260530T111500
SUMMARY:EL/OD222 vs. VR533008
DESCRIPTION:U7A - Lorain County Soccer League
LOCATION:EF3
CATEGORIES:QuickScores; Soccer - Youth Game
TRANSP:0
DALARM:20260530T081500;PT10M;2;EL/OD222 vs. VR533008
END:VEVENT
BEGIN:VEVENT
DTSTART:20260602T181500
DTEND:20260602T191500
SUMMARY:FS229701 vs. EL/OD222
DESCRIPTION:U7A - Lorain County Soccer League
LOCATION:FS 1
CATEGORIES:QuickScores; Soccer - Youth Game
TRANSP:0
DALARM:20260602T161500;PT10M;2;FS229701 vs. EL/OD222
END:VEVENT
BEGIN:VEVENT
DTSTART:20260606T113000
DTEND:20260606T123000
SUMMARY:LO330708 vs. EL/OD222
DESCRIPTION:U7A - Lorain County Soccer League
LOCATION:LO 1
CATEGORIES:QuickScores; Soccer - Youth Game
TRANSP:0
DALARM:20260606T093000;PT10M;2;LO330708 vs. EL/OD222
END:VEVENT
END:VCALENDAR
