BEGIN:VCALENDAR
VERSION:1.0
BEGIN:VEVENT
DTSTART:20260423T183000
DTEND:20260423T193000
SUMMARY:Mv039418 vs. VR533402
DESCRIPTION:U12B - Lorain County Soccer League
LOCATION:MV G
CATEGORIES:QuickScores; Soccer - Youth Game
TRANSP:0
DALARM:20260423T163000;PT10M;2;Mv039418 vs. VR533402
END:VEVENT
BEGIN:VEVENT
DTSTART:20260430T183000
DTEND:20260430T193000
SUMMARY:VR533402 vs. Mv039418
DESCRIPTION:U12B - Lorain County Soccer League
LOCATION:VRF
CATEGORIES:QuickScores; Soccer - Youth Game
TRANSP:0
DALARM:20260430T163000;PT10M;2;VR533402 vs. Mv039418
END:VEVENT
BEGIN:VEVENT
DTSTART:20260502T090000
DTEND:20260502T100000
SUMMARY:Mv039418 vs. EL317212
DESCRIPTION:U12B - Lorain County Soccer League
LOCATION:MVH
CATEGORIES:QuickScores; Soccer - Youth Game
TRANSP:0
DALARM:20260502T070000;PT10M;2;Mv039418 vs. EL317212
END:VEVENT
BEGIN:VEVENT
DTSTART:20260509T103000
DTEND:20260509T113000
SUMMARY:AM286714 vs. Mv039418
DESCRIPTION:U12B - Lorain County Soccer League
LOCATION:AM 8 BEAVER CREEK
CATEGORIES:QuickScores; Soccer - Youth Game
TRANSP:0
DALARM:20260509T083000;PT10M;2;AM286714 vs. Mv039418
END:VEVENT
BEGIN:VEVENT
DTSTART:20260514T180000
DTEND:20260514T190000
SUMMARY:EL317122 vs. Mv039418
DESCRIPTION:U12B - Lorain County Soccer League
LOCATION:EF2
CATEGORIES:QuickScores; Soccer - Youth Game
TRANSP:0
DALARM:20260514T160000;PT10M;2;EL317122 vs. Mv039418
END:VEVENT
BEGIN:VEVENT
DTSTART:20260523T090000
DTEND:20260523T100000
SUMMARY:Mv039418 vs. FS229801
DESCRIPTION:U12B - Lorain County Soccer League
LOCATION:MVH
CATEGORIES:QuickScores; Soccer - Youth Game
TRANSP:0
DALARM:20260523T070000;PT10M;2;Mv039418 vs. FS229801
END:VEVENT
BEGIN:VEVENT
DTSTART:20260530T120000
DTEND:20260530T130000
SUMMARY:WE287128 vs. Mv039418
DESCRIPTION:U12B - Lorain County Soccer League
LOCATION:WE4
CATEGORIES:QuickScores; Soccer - Youth Game
TRANSP:0
DALARM:20260530T100000;PT10M;2;WE287128 vs. Mv039418
END:VEVENT
BEGIN:VEVENT
DTSTART:20260602T181500
DTEND:20260602T191500
SUMMARY:Mv039418 vs. WE287128
DESCRIPTION:U12B - Lorain County Soccer League
LOCATION:MVH
CATEGORIES:QuickScores; Soccer - Youth Game
TRANSP:0
DALARM:20260602T161500;PT10M;2;Mv039418 vs. WE287128
END:VEVENT
END:VCALENDAR
