BEGIN:VCALENDAR
VERSION:1.0
BEGIN:VEVENT
DTSTART:20260425T120000
DTEND:20260425T130000
SUMMARY:EL317212 vs. FS229801
DESCRIPTION:U12B - Lorain County Soccer League
LOCATION:EF2
CATEGORIES:QuickScores; Soccer - Youth Game
TRANSP:0
DALARM:20260425T100000;PT10M;2;EL317212 vs. FS229801
END:VEVENT
BEGIN:VEVENT
DTSTART:20260429T180000
DTEND:20260429T190000
SUMMARY:EL317122 vs. FS229801
DESCRIPTION:U12B - Lorain County Soccer League
LOCATION:EF2
CATEGORIES:QuickScores; Soccer - Youth Game
TRANSP:0
DALARM:20260429T160000;PT10M;2;EL317122 vs. FS229801
END:VEVENT
BEGIN:VEVENT
DTSTART:20260502T090000
DTEND:20260502T100000
SUMMARY:WE287128 vs. FS229801
DESCRIPTION:U12B - Lorain County Soccer League
LOCATION:WE4
CATEGORIES:QuickScores; Soccer - Youth Game
TRANSP:0
DALARM:20260502T070000;PT10M;2;WE287128 vs. FS229801
END:VEVENT
BEGIN:VEVENT
DTSTART:20260509T100000
DTEND:20260509T110000
SUMMARY:FS229801 vs. VR533402
DESCRIPTION:U12B - Lorain County Soccer League
LOCATION:FS7 U11/12
CATEGORIES:QuickScores; Soccer - Youth Game
TRANSP:0
DALARM:20260509T080000;PT10M;2;FS229801 vs. VR533402
END:VEVENT
BEGIN:VEVENT
DTSTART:20260520T181500
DTEND:20260520T191500
SUMMARY:FS229801 vs. EL317212
DESCRIPTION:U12B - Lorain County Soccer League
LOCATION:FS7 U11/12
CATEGORIES:QuickScores; Soccer - Youth Game
TRANSP:0
DALARM:20260520T161500;PT10M;2;FS229801 vs. EL317212
END:VEVENT
BEGIN:VEVENT
DTSTART:20260523T090000
DTEND:20260523T100000
SUMMARY:Mv039418 vs. FS229801
DESCRIPTION:U12B - Lorain County Soccer League
LOCATION:MVH
CATEGORIES:QuickScores; Soccer - Youth Game
TRANSP:0
DALARM:20260523T070000;PT10M;2;Mv039418 vs. FS229801
END:VEVENT
BEGIN:VEVENT
DTSTART:20260530T090000
DTEND:20260530T100000
SUMMARY:FS229801 vs. AM286714
DESCRIPTION:U12B - Lorain County Soccer League
LOCATION:FS7 U11/12
CATEGORIES:QuickScores; Soccer - Youth Game
TRANSP:0
DALARM:20260530T070000;PT10M;2;FS229801 vs. AM286714
END:VEVENT
BEGIN:VEVENT
DTSTART:20260606T090000
DTEND:20260606T100000
SUMMARY:FS229801 vs. EL317122
DESCRIPTION:U12B - Lorain County Soccer League
LOCATION:FS7 U11/12
CATEGORIES:QuickScores; Soccer - Youth Game
TRANSP:0
DALARM:20260606T070000;PT10M;2;FS229801 vs. EL317122
END:VEVENT
END:VCALENDAR
