BEGIN:VCALENDAR
VERSION:1.0
BEGIN:VEVENT
DTSTART:20250424T181500
DTEND:20250424T191500
SUMMARY:EL317710 vs. AM286702
DESCRIPTION:U8A - Lorain County Soccer League
LOCATION:EF3
CATEGORIES:QuickScores; Soccer - Youth Game
TRANSP:0
DALARM:20250424T161500;PT10M;2;EL317710 vs. AM286702
END:VEVENT
BEGIN:VEVENT
DTSTART:20250426T090000
DTEND:20250426T100000
SUMMARY:AM286702 vs. NR101010
DESCRIPTION:U8A - Lorain County Soccer League
LOCATION:AM 2
CATEGORIES:QuickScores; Soccer - Youth Game
TRANSP:0
DALARM:20250426T070000;PT10M;2;AM286702 vs. NR101010
END:VEVENT
BEGIN:VEVENT
DTSTART:20250503T090000
DTEND:20250503T100000
SUMMARY:LA123705 vs. AM286702
DESCRIPTION:U8A - Lorain County Soccer League
LOCATION:LA 2
CATEGORIES:QuickScores; Soccer - Youth Game
TRANSP:0
DALARM:20250503T070000;PT10M;2;LA123705 vs. AM286702
END:VEVENT
BEGIN:VEVENT
DTSTART:20250510T090000
DTEND:20250510T100000
SUMMARY:LO330706 vs. AM286702
DESCRIPTION:U8A - Lorain County Soccer League
LOCATION:LO 1
CATEGORIES:QuickScores; Soccer - Youth Game
TRANSP:0
DALARM:20250510T070000;PT10M;2;LO330706 vs. AM286702
END:VEVENT
BEGIN:VEVENT
DTSTART:20250513T181500
DTEND:20250513T191500
SUMMARY:VR533703 vs. AM286702
DESCRIPTION:U8A - Lorain County Soccer League
LOCATION:VR A
CATEGORIES:QuickScores; Soccer - Youth Game
TRANSP:0
DALARM:20250513T161500;PT10M;2;VR533703 vs. AM286702
END:VEVENT
BEGIN:VEVENT
DTSTART:20250520T181500
DTEND:20250520T191500
SUMMARY:AM286702 vs. LA123705
DESCRIPTION:U8A - Lorain County Soccer League
LOCATION:AM 2
CATEGORIES:QuickScores; Soccer - Youth Game
TRANSP:0
DALARM:20250520T161500;PT10M;2;AM286702 vs. LA123705
END:VEVENT
BEGIN:VEVENT
DTSTART:20250528T181500
DTEND:20250528T191500
SUMMARY:AM286702 vs. LO330706
DESCRIPTION:U8A - Lorain County Soccer League
LOCATION:AM 2
CATEGORIES:QuickScores; Soccer - Youth Game
TRANSP:0
DALARM:20250528T161500;PT10M;2;AM286702 vs. LO330706
END:VEVENT
BEGIN:VEVENT
DTSTART:20250529T185500
DTEND:20250529T195500
SUMMARY:AM286702 vs. ED710799
DESCRIPTION:U8A - Lorain County Soccer League
LOCATION:AM 2
CATEGORIES:QuickScores; Soccer - Youth Game
TRANSP:0
DALARM:20250529T165500;PT10M;2;AM286702 vs. ED710799
END:VEVENT
END:VCALENDAR
