BEGIN:VCALENDAR
VERSION:1.0
BEGIN:VEVENT
DTSTART:20260412T191000
DTEND:20260412T200000
SUMMARY:Thick and Slow vs. Berklee's Boys
DESCRIPTION:Men’s 3 - Lincoln NE Adult League
LOCATION:North
CATEGORIES:QuickScores; Soccer - Adult Game
TRANSP:0
DALARM:20260412T171000;PT10M;2;Thick and Slow vs. Berklee's Boys
END:VEVENT
BEGIN:VEVENT
DTSTART:20260419T200000
DTEND:20260419T205000
SUMMARY:Los Desperados vs. Berklee's Boys
DESCRIPTION:Men’s 3 - Lincoln NE Adult League
LOCATION:South
CATEGORIES:QuickScores; Soccer - Adult Game
TRANSP:0
DALARM:20260419T180000;PT10M;2;Los Desperados vs. Berklee's Boys
END:VEVENT
BEGIN:VEVENT
DTSTART:20260426T191000
DTEND:20260426T200000
SUMMARY:Olak FC 2 vs. Berklee's Boys
DESCRIPTION:Men’s 3 - Lincoln NE Adult League
LOCATION:South
CATEGORIES:QuickScores; Soccer - Adult Game
TRANSP:0
DALARM:20260426T171000;PT10M;2;Olak FC 2 vs. Berklee's Boys
END:VEVENT
BEGIN:VEVENT
DTSTART:20260503T191000
DTEND:20260503T200000
SUMMARY:Berklee's Boys vs. FC Cevapi
DESCRIPTION:Men’s 3 - Lincoln NE Adult League
LOCATION:North
CATEGORIES:QuickScores; Soccer - Adult Game
TRANSP:0
DALARM:20260503T171000;PT10M;2;Berklee's Boys vs. FC Cevapi
END:VEVENT
END:VCALENDAR
