BEGIN:VCALENDAR
VERSION:1.0
BEGIN:VEVENT
DTSTART:20260412T182000
DTEND:20260412T191000
SUMMARY:Fireballers vs. Santa Fe FC
DESCRIPTION:Men’s 4 - Lincoln NE Adult League
LOCATION:South
CATEGORIES:QuickScores; Soccer - Adult Game
TRANSP:0
DALARM:20260412T162000;PT10M;2;Fireballers vs. Santa Fe FC
END:VEVENT
BEGIN:VEVENT
DTSTART:20260419T173000
DTEND:20260419T182000
SUMMARY:Fireballers vs. Hexagon Agility
DESCRIPTION:Men’s 4 - Lincoln NE Adult League
LOCATION:South
CATEGORIES:QuickScores; Soccer - Adult Game
TRANSP:0
DALARM:20260419T153000;PT10M;2;Fireballers vs. Hexagon Agility
END:VEVENT
BEGIN:VEVENT
DTSTART:20260426T173000
DTEND:20260426T182000
SUMMARY:Young Buffaloes vs. Fireballers
DESCRIPTION:Men’s 4 - Lincoln NE Adult League
LOCATION:South
CATEGORIES:QuickScores; Soccer - Adult Game
TRANSP:0
DALARM:20260426T153000;PT10M;2;Young Buffaloes vs. Fireballers
END:VEVENT
BEGIN:VEVENT
DTSTART:20260503T173000
DTEND:20260503T182000
SUMMARY:Fireballers vs. FC Shakhtar
DESCRIPTION:Men’s 4 - Lincoln NE Adult League
LOCATION:North
CATEGORIES:QuickScores; Soccer - Adult Game
TRANSP:0
DALARM:20260503T153000;PT10M;2;Fireballers vs. FC Shakhtar
END:VEVENT
END:VCALENDAR
