BEGIN:VCALENDAR
VERSION:1.0
BEGIN:VEVENT
DTSTART:20260412T182000
DTEND:20260412T191000
SUMMARY:Brold and Slowken vs. NWA
DESCRIPTION:Men’s 4 - Lincoln NE Adult League
LOCATION:North
CATEGORIES:QuickScores; Soccer - Adult Game
TRANSP:0
DALARM:20260412T162000;PT10M;2;Brold and Slowken vs. NWA
END:VEVENT
BEGIN:VEVENT
DTSTART:20260419T173000
DTEND:20260419T182000
SUMMARY:FC Shakhtar vs. Brold and Slowken
DESCRIPTION:Men’s 4 - Lincoln NE Adult League
LOCATION:North
CATEGORIES:QuickScores; Soccer - Adult Game
TRANSP:0
DALARM:20260419T153000;PT10M;2;FC Shakhtar vs. Brold and Slowken
END:VEVENT
BEGIN:VEVENT
DTSTART:20260426T182000
DTEND:20260426T191000
SUMMARY:Brold and Slowken vs. Thick and Slow
DESCRIPTION:Men’s 4 - Lincoln NE Adult League
LOCATION:North
CATEGORIES:QuickScores; Soccer - Adult Game
TRANSP:0
DALARM:20260426T162000;PT10M;2;Brold and Slowken vs. Thick and Slow
END:VEVENT
BEGIN:VEVENT
DTSTART:20260503T173000
DTEND:20260503T182000
SUMMARY:Hexagon Agility vs. Brold and Slowken
DESCRIPTION:Men’s 4 - Lincoln NE Adult League
LOCATION:South
CATEGORIES:QuickScores; Soccer - Adult Game
TRANSP:0
DALARM:20260503T153000;PT10M;2;Hexagon Agility vs. Brold and Slowken
END:VEVENT
END:VCALENDAR
