BEGIN:VCALENDAR
VERSION:1.0
BEGIN:VEVENT
DTSTART:20260412T132000
DTEND:20260412T141000
SUMMARY:Consbeeracy vs. Baum, Chol, And Bullock
DESCRIPTION:Coed 2 - Lincoln NE Adult League
LOCATION:South
CATEGORIES:QuickScores; Soccer - Adult Game
TRANSP:0
DALARM:20260412T112000;PT10M;2;Consbeeracy vs. Baum, Chol, And Bullock
END:VEVENT
BEGIN:VEVENT
DTSTART:20260419T123000
DTEND:20260419T132000
SUMMARY:FC Friends vs. Baum, Chol, And Bullock
DESCRIPTION:Coed 2 - Lincoln NE Adult League
LOCATION:North
CATEGORIES:QuickScores; Soccer - Adult Game
TRANSP:0
DALARM:20260419T103000;PT10M;2;FC Friends vs. Baum, Chol, And Bullock
END:VEVENT
BEGIN:VEVENT
DTSTART:20260426T132000
DTEND:20260426T141000
SUMMARY:Baum, Chol, And Bullock vs. Rovers FC
DESCRIPTION:Coed 2 - Lincoln NE Adult League
LOCATION:South
CATEGORIES:QuickScores; Soccer - Adult Game
TRANSP:0
DALARM:20260426T112000;PT10M;2;Baum, Chol, And Bullock vs. Rovers FC
END:VEVENT
BEGIN:VEVENT
DTSTART:20260503T132000
DTEND:20260503T141000
SUMMARY:Baum, Chol, And Bullock vs. #LincolnLife FC
DESCRIPTION:Coed 2 - Lincoln NE Adult League
LOCATION:North
CATEGORIES:QuickScores; Soccer - Adult Game
TRANSP:0
DALARM:20260503T112000;PT10M;2;Baum, Chol, And Bullock vs. #LincolnLife FC
END:VEVENT
END:VCALENDAR
