BEGIN:VCALENDAR
VERSION:1.0
BEGIN:VEVENT
DTSTART:20260312T211000
DTEND:20260312T220500
SUMMARY:YZD UNCS vs. Mixednuts FC
DESCRIPTION:Coed 2^ Thursday - Lincoln NE Adult League
LOCATION:North
CATEGORIES:QuickScores; Soccer - Adult Game
TRANSP:0
DALARM:20260312T191000;PT10M;2;YZD UNCS vs. Mixednuts FC
END:VEVENT
BEGIN:VEVENT
DTSTART:20260319T211000
DTEND:20260319T220500
SUMMARY:Mixednuts FC vs. European Grocery and Deli
DESCRIPTION:Coed 2^ Thursday - Lincoln NE Adult League
LOCATION:South
CATEGORIES:QuickScores; Soccer - Adult Game
TRANSP:0
DALARM:20260319T191000;PT10M;2;Mixednuts FC vs. European Grocery and Deli
END:VEVENT
BEGIN:VEVENT
DTSTART:20260326T211000
DTEND:20260326T220500
SUMMARY:Mixednuts FC vs. Hexagon Agility
DESCRIPTION:Coed 2^ Thursday - Lincoln NE Adult League
LOCATION:South
CATEGORIES:QuickScores; Soccer - Adult Game
TRANSP:0
DALARM:20260326T191000;PT10M;2;Mixednuts FC vs. Hexagon Agility
END:VEVENT
BEGIN:VEVENT
DTSTART:20260402T211000
DTEND:20260402T220500
SUMMARY:Asturias vs. Mixednuts FC
DESCRIPTION:Coed 2^ Thursday - Lincoln NE Adult League
LOCATION:North
CATEGORIES:QuickScores; Soccer - Adult Game
TRANSP:0
DALARM:20260402T191000;PT10M;2;Asturias vs. Mixednuts FC
END:VEVENT
BEGIN:VEVENT
DTSTART:20260416T211000
DTEND:20260416T220500
SUMMARY:Hexagon Agility vs. Mixednuts FC
DESCRIPTION:playoff, winner to semi # 2 seed --- Coed 2^ Thursday - Lincoln NE Adult League
LOCATION:North
CATEGORIES:QuickScores; Soccer - Adult Game
TRANSP:0
DALARM:20260416T191000;PT10M;2;Hexagon Agility vs. Mixednuts FC
END:VEVENT
BEGIN:VEVENT
DTSTART:20260423T220500
DTEND:20260423T230000
SUMMARY:Rafa Roofing vs. Mixednuts FC
DESCRIPTION:last game --- Coed 2^ Thursday - Lincoln NE Adult League
LOCATION:South
CATEGORIES:QuickScores; Soccer - Adult Game
TRANSP:0
DALARM:20260423T200500;PT10M;2;Rafa Roofing vs. Mixednuts FC
END:VEVENT
END:VCALENDAR
