BEGIN:VCALENDAR
VERSION:1.0
BEGIN:VEVENT
DTSTART:20260304T203500
DTEND:20260304T213000
SUMMARY:Bears With Chainsaws vs. Olak FC
DESCRIPTION:Coed 1 Wednesday - Lincoln NE Adult League
LOCATION:South
CATEGORIES:QuickScores; Soccer - Adult Game
TRANSP:0
DALARM:20260304T183500;PT10M;2;Bears With Chainsaws vs. Olak FC
END:VEVENT
BEGIN:VEVENT
DTSTART:20260311T211000
DTEND:20260311T220500
SUMMARY:Hexagon Agility vs. Bears With Chainsaws
DESCRIPTION:Coed 1 Wednesday - Lincoln NE Adult League
LOCATION:South
CATEGORIES:QuickScores; Soccer - Adult Game
TRANSP:0
DALARM:20260311T191000;PT10M;2;Hexagon Agility vs. Bears With Chainsaws
END:VEVENT
BEGIN:VEVENT
DTSTART:20260318T213000
DTEND:20260318T222500
SUMMARY:Bears With Chainsaws vs. Ya Basic
DESCRIPTION:Coed 1 Wednesday - Lincoln NE Adult League
LOCATION:South
CATEGORIES:QuickScores; Soccer - Adult Game
TRANSP:0
DALARM:20260318T193000;PT10M;2;Bears With Chainsaws vs. Ya Basic
END:VEVENT
BEGIN:VEVENT
DTSTART:20260325T203500
DTEND:20260325T213000
SUMMARY:Nishtobdhota vs. Bears With Chainsaws
DESCRIPTION:Coed 1 Wednesday - Lincoln NE Adult League
LOCATION:South
CATEGORIES:QuickScores; Soccer - Adult Game
TRANSP:0
DALARM:20260325T183500;PT10M;2;Nishtobdhota vs. Bears With Chainsaws
END:VEVENT
BEGIN:VEVENT
DTSTART:20260408T203500
DTEND:20260408T213000
SUMMARY:Bears With Chainsaws vs. Nishtobdhota
DESCRIPTION:playoff, winner to semi #4 seed, Nish 7-4 --- Coed 1 Wednesday - Lincoln NE Adult League
LOCATION:South
CATEGORIES:QuickScores; Soccer - Adult Game
TRANSP:0
DALARM:20260408T183500;PT10M;2;Bears With Chainsaws vs. Nishtobdhota
END:VEVENT
END:VCALENDAR
