BEGIN:VCALENDAR
VERSION:1.0
BEGIN:VEVENT
DTSTART:20260418T090000
DTEND:20260418T100000
SUMMARY:202G vs. 206G
DESCRIPTION:2nd Grade - Girls - www.lehi-ut.gov
LOCATION:Sports Complex Soccer Field 4
CATEGORIES:QuickScores; Soccer - Youth Game
TRANSP:0
DALARM:20260418T070000;PT10M;2;202G vs. 206G
END:VEVENT
BEGIN:VEVENT
DTSTART:20260422T180000
DTEND:20260422T190000
SUMMARY:202G vs. 204G
DESCRIPTION:2nd Grade - Girls - www.lehi-ut.gov
LOCATION:Sports Complex Soccer Field 2
CATEGORIES:QuickScores; Soccer - Youth Game
TRANSP:0
DALARM:20260422T160000;PT10M;2;202G vs. 204G
END:VEVENT
BEGIN:VEVENT
DTSTART:20260425T110000
DTEND:20260425T120000
SUMMARY:203G vs. 202G
DESCRIPTION:2nd Grade - Girls - www.lehi-ut.gov
LOCATION:Sports Complex Soccer Field 4
CATEGORIES:QuickScores; Soccer - Youth Game
TRANSP:0
DALARM:20260425T090000;PT10M;2;203G vs. 202G
END:VEVENT
BEGIN:VEVENT
DTSTART:20260502T090000
DTEND:20260502T100000
SUMMARY:205G vs. 202G
DESCRIPTION:2nd Grade - Girls - www.lehi-ut.gov
LOCATION:Sports Complex Soccer Field 4
CATEGORIES:QuickScores; Soccer - Youth Game
TRANSP:0
DALARM:20260502T070000;PT10M;2;205G vs. 202G
END:VEVENT
BEGIN:VEVENT
DTSTART:20260506T180000
DTEND:20260506T190000
SUMMARY:202G vs. 201G
DESCRIPTION:2nd Grade - Girls - www.lehi-ut.gov
LOCATION:Sports Complex Soccer Field 2
CATEGORIES:QuickScores; Soccer - Youth Game
TRANSP:0
DALARM:20260506T160000;PT10M;2;202G vs. 201G
END:VEVENT
BEGIN:VEVENT
DTSTART:20260509T110000
DTEND:20260509T120000
SUMMARY:206G vs. 202G
DESCRIPTION:2nd Grade - Girls - www.lehi-ut.gov
LOCATION:Sports Complex Soccer Field 4
CATEGORIES:QuickScores; Soccer - Youth Game
TRANSP:0
DALARM:20260509T090000;PT10M;2;206G vs. 202G
END:VEVENT
BEGIN:VEVENT
DTSTART:20260516T100000
DTEND:20260516T110000
SUMMARY:204G vs. 202G
DESCRIPTION:2nd Grade - Girls - www.lehi-ut.gov
LOCATION:Sports Complex Soccer Field 4
CATEGORIES:QuickScores; Soccer - Youth Game
TRANSP:0
DALARM:20260516T080000;PT10M;2;204G vs. 202G
END:VEVENT
BEGIN:VEVENT
DTSTART:20260520T180000
DTEND:20260520T190000
SUMMARY:202G vs. 203G
DESCRIPTION:2nd Grade - Girls - www.lehi-ut.gov
LOCATION:Sports Complex Soccer Field 7
CATEGORIES:QuickScores; Soccer - Youth Game
TRANSP:0
DALARM:20260520T160000;PT10M;2;202G vs. 203G
END:VEVENT
END:VCALENDAR
