BEGIN:VCALENDAR
VERSION:1.0
BEGIN:VEVENT
DTSTART:20260306T180000
DTEND:20260306T190000
SUMMARY:501 vs. 504
DESCRIPTION:5th/6th Grade - Coed - www.lehi-ut.gov
LOCATION:Legacy Center South Court
CATEGORIES:QuickScores; Youth Indoor Soccer Game
TRANSP:0
DALARM:20260306T160000;PT10M;2;501 vs. 504
END:VEVENT
BEGIN:VEVENT
DTSTART:20260309T180000
DTEND:20260309T190000
SUMMARY:507 vs. 501
DESCRIPTION:5th/6th Grade - Coed - www.lehi-ut.gov
LOCATION:Legacy Center North Court
CATEGORIES:QuickScores; Youth Indoor Soccer Game
TRANSP:0
DALARM:20260309T160000;PT10M;2;507 vs. 501
END:VEVENT
BEGIN:VEVENT
DTSTART:20260313T170000
DTEND:20260313T180000
SUMMARY:501 vs. 502
DESCRIPTION:5th/6th Grade - Coed - www.lehi-ut.gov
LOCATION:Legacy Center South Court
CATEGORIES:QuickScores; Youth Indoor Soccer Game
TRANSP:0
DALARM:20260313T150000;PT10M;2;501 vs. 502
END:VEVENT
BEGIN:VEVENT
DTSTART:20260316T170000
DTEND:20260316T180000
SUMMARY:501 vs. 505
DESCRIPTION:5th/6th Grade - Coed - www.lehi-ut.gov
LOCATION:Legacy Center North Court
CATEGORIES:QuickScores; Youth Indoor Soccer Game
TRANSP:0
DALARM:20260316T150000;PT10M;2;501 vs. 505
END:VEVENT
BEGIN:VEVENT
DTSTART:20260320T180000
DTEND:20260320T190000
SUMMARY:501 vs. 508
DESCRIPTION:5th/6th Grade - Coed - www.lehi-ut.gov
LOCATION:Legacy Center North Court
CATEGORIES:QuickScores; Youth Indoor Soccer Game
TRANSP:0
DALARM:20260320T160000;PT10M;2;501 vs. 508
END:VEVENT
BEGIN:VEVENT
DTSTART:20260323T170000
DTEND:20260323T180000
SUMMARY:503 vs. 501
DESCRIPTION:5th/6th Grade - Coed - www.lehi-ut.gov
LOCATION:Legacy Center South Court
CATEGORIES:QuickScores; Youth Indoor Soccer Game
TRANSP:0
DALARM:20260323T150000;PT10M;2;503 vs. 501
END:VEVENT
BEGIN:VEVENT
DTSTART:20260327T170000
DTEND:20260327T180000
SUMMARY:506 vs. 501
DESCRIPTION:5th/6th Grade - Coed - www.lehi-ut.gov
LOCATION:Legacy Center South Court
CATEGORIES:QuickScores; Youth Indoor Soccer Game
TRANSP:0
DALARM:20260327T150000;PT10M;2;506 vs. 501
END:VEVENT
BEGIN:VEVENT
DTSTART:20260330T180000
DTEND:20260330T190000
SUMMARY:504 vs. 501
DESCRIPTION:5th/6th Grade - Coed - www.lehi-ut.gov
LOCATION:Legacy Center South Court
CATEGORIES:QuickScores; Youth Indoor Soccer Game
TRANSP:0
DALARM:20260330T160000;PT10M;2;504 vs. 501
END:VEVENT
END:VCALENDAR
