BEGIN:VCALENDAR
VERSION:1.0
BEGIN:VEVENT
DTSTART:20260307T171000
DTEND:20260307T180500
SUMMARY:Zone 6 vs. Hoop Squad
DESCRIPTION:Hoop Squad #12 scores 19 points --- 6th Grade Boys - Legacy Youth Sports
LOCATION:Kroc Center - Court 1
CATEGORIES:QuickScores; Basketball Game
TRANSP:0
DALARM:20260307T151000;PT10M;2;Zone 6 vs. Hoop Squad
END:VEVENT
BEGIN:VEVENT
DTSTART:20260321T095000
DTEND:20260321T104500
SUMMARY:Gremlins vs. Zone 6
DESCRIPTION:#50 Brady Boatin with the Gremlins scored 11 points! --- 6th Grade Boys - Legacy Youth Sports
LOCATION:Edurpize
CATEGORIES:QuickScores; Basketball Game
TRANSP:0
DALARM:20260321T075000;PT10M;2;Gremlins vs. Zone 6
END:VEVENT
END:VCALENDAR
