BEGIN:VCALENDAR
VERSION:1.0
BEGIN:VEVENT
DTSTART:20260228T114000
DTEND:20260228T123500
SUMMARY:Hoop Squad vs. AZ Flight
DESCRIPTION:6th Grade Boys - Legacy Youth Sports
LOCATION:Atkinson Court 3
CATEGORIES:QuickScores; Basketball Game
TRANSP:0
DALARM:20260228T094000;PT10M;2;Hoop Squad vs. AZ Flight
END:VEVENT
BEGIN:VEVENT
DTSTART:20260321T104500
DTEND:20260321T114000
SUMMARY:SNC Sports vs. AZ Flight
DESCRIPTION:AZ Flight #1 scores 19 points --- 6th Grade Boys - Legacy Youth Sports
LOCATION:Atkinson Court 3
CATEGORIES:QuickScores; Basketball Game
TRANSP:0
DALARM:20260321T084500;PT10M;2;SNC Sports vs. AZ Flight
END:VEVENT
BEGIN:VEVENT
DTSTART:20260328T171000
DTEND:20260328T180500
SUMMARY:AZ Flight vs. Hoop Squad
DESCRIPTION:6th Grade Boys - Legacy Youth Sports
LOCATION:Glendale High School AUX
CATEGORIES:QuickScores; Basketball Game
TRANSP:0
DALARM:20260328T151000;PT10M;2;AZ Flight vs. Hoop Squad
END:VEVENT
END:VCALENDAR
