BEGIN:VCALENDAR
VERSION:1.0
BEGIN:VEVENT
DTSTART:20260314T142500
DTEND:20260314T152000
SUMMARY:SC Girls vs. D22 Academy 17U
DESCRIPTION:High School Girls - Legacy Youth Sports
LOCATION:Kroc Center - Court 2
CATEGORIES:QuickScores; Basketball Game
TRANSP:0
DALARM:20260314T122500;PT10M;2;SC Girls vs. D22 Academy 17U
END:VEVENT
BEGIN:VEVENT
DTSTART:20260328T142500
DTEND:20260328T152000
SUMMARY:D22 Academy 17U vs. 3D Hoops 17U
DESCRIPTION:High School Girls - Legacy Youth Sports
LOCATION:Glendale High School Main
CATEGORIES:QuickScores; Basketball Game
TRANSP:0
DALARM:20260328T122500;PT10M;2;D22 Academy 17U vs. 3D Hoops 17U
END:VEVENT
BEGIN:VEVENT
DTSTART:20260411T161500
DTEND:20260411T171000
SUMMARY:D22 Academy 17U vs. 10xbtr 17U
DESCRIPTION:High School Girls - Legacy Youth Sports
LOCATION:Atkinson Court 3
CATEGORIES:QuickScores; Basketball Game
TRANSP:0
DALARM:20260411T141500;PT10M;2;D22 Academy 17U vs. 10xbtr 17U
END:VEVENT
END:VCALENDAR
