BEGIN:VCALENDAR
VERSION:1.0
BEGIN:VEVENT
DTSTART:20260321T114000
DTEND:20260321T123500
SUMMARY:Jump Athletic vs. SNC Sports
DESCRIPTION:Jump Athletic #22 Bennett scores 19 points --- 3/4th Grade Boys - Legacy Youth Sports
LOCATION:Atkinson Court 1
CATEGORIES:QuickScores; Basketball Game
TRANSP:0
DALARM:20260321T094000;PT10M;2;Jump Athletic vs. SNC Sports
END:VEVENT
BEGIN:VEVENT
DTSTART:20260328T085500
DTEND:20260328T095000
SUMMARY:RISE vs. SNC Sports
DESCRIPTION:SNC Sports #24 Noah scores 12 points --- 3/4th Grade Boys - Legacy Youth Sports
LOCATION:Glendale High School Main
CATEGORIES:QuickScores; Basketball Game
TRANSP:0
DALARM:20260328T065500;PT10M;2;RISE vs. SNC Sports
END:VEVENT
BEGIN:VEVENT
DTSTART:20260411T104500
DTEND:20260411T114000
SUMMARY:SNC Sports vs. Hoop Code Black
DESCRIPTION:3/4th Grade Boys - Legacy Youth Sports
LOCATION:Atkinson Court 2
CATEGORIES:QuickScores; Basketball Game
TRANSP:0
DALARM:20260411T084500;PT10M;2;SNC Sports vs. Hoop Code Black
END:VEVENT
BEGIN:VEVENT
DTSTART:20260411T114000
DTEND:20260411T123500
SUMMARY:FOE Elite vs. SNC Sports
DESCRIPTION:3/4th Grade Boys - Legacy Youth Sports
LOCATION:Atkinson Court 1
CATEGORIES:QuickScores; Basketball Game
TRANSP:0
DALARM:20260411T094000;PT10M;2;FOE Elite vs. SNC Sports
END:VEVENT
BEGIN:VEVENT
DTSTART:20260418T085500
DTEND:20260418T095000
SUMMARY:PHX Fire vs. SNC Sports
DESCRIPTION:3/4th Grade Boys - Legacy Youth Sports
LOCATION:Atkinson Court 2
CATEGORIES:QuickScores; Basketball Game
TRANSP:0
DALARM:20260418T065500;PT10M;2;PHX Fire vs. SNC Sports
END:VEVENT
BEGIN:VEVENT
DTSTART:20260418T104500
DTEND:20260418T114000
SUMMARY:FOE Elite vs. SNC Sports
DESCRIPTION:3/4th Grade Boys - Legacy Youth Sports
LOCATION:Atkinson Court 2
CATEGORIES:QuickScores; Basketball Game
TRANSP:0
DALARM:20260418T084500;PT10M;2;FOE Elite vs. SNC Sports
END:VEVENT
END:VCALENDAR
