BEGIN:VCALENDAR
VERSION:1.0
BEGIN:VEVENT
DTSTART:20260221T152000
DTEND:20260221T161500
SUMMARY:3D Athletics vs. Locked Down
DESCRIPTION:7/8th Girls - Legacy Youth Sports
LOCATION:Moon Valley HS  MAIN
CATEGORIES:QuickScores; Basketball Game
TRANSP:0
DALARM:20260221T132000;PT10M;2;3D Athletics vs. Locked Down
END:VEVENT
BEGIN:VEVENT
DTSTART:20260228T123500
DTEND:20260228T133000
SUMMARY:Strive vs. 3D Athletics
DESCRIPTION:7/8th Girls - Legacy Youth Sports
LOCATION:Atkinson Court 4
CATEGORIES:QuickScores; Basketball Game
TRANSP:0
DALARM:20260228T103500;PT10M;2;Strive vs. 3D Athletics
END:VEVENT
BEGIN:VEVENT
DTSTART:20260314T104500
DTEND:20260314T114000
SUMMARY:3D Athletics vs. Hoop Code 7/8th
DESCRIPTION:7/8th Girls - Legacy Youth Sports
LOCATION:Kroc Center - Court 3
CATEGORIES:QuickScores; Basketball Game
TRANSP:0
DALARM:20260314T084500;PT10M;2;3D Athletics vs. Hoop Code 7/8th
END:VEVENT
BEGIN:VEVENT
DTSTART:20260321T095000
DTEND:20260321T104500
SUMMARY:3D Athletics vs. Proformance Arizona
DESCRIPTION:Performance Arizona #22 scores 10 points --- 7/8th Girls - Legacy Youth Sports
LOCATION:Atkinson Court 4
CATEGORIES:QuickScores; Basketball Game
TRANSP:0
DALARM:20260321T075000;PT10M;2;3D Athletics vs. Proformance Arizona
END:VEVENT
BEGIN:VEVENT
DTSTART:20260411T152000
DTEND:20260411T161500
SUMMARY:D22 Academy Blue vs. 3D Athletics
DESCRIPTION:7/8th Girls - Legacy Youth Sports
LOCATION:Atkinson Court 4
CATEGORIES:QuickScores; Basketball Game
TRANSP:0
DALARM:20260411T132000;PT10M;2;D22 Academy Blue vs. 3D Athletics
END:VEVENT
BEGIN:VEVENT
DTSTART:20260418T104500
DTEND:20260418T114000
SUMMARY:Roadrunners vs. 3D Athletics
DESCRIPTION:7/8th Girls - Legacy Youth Sports
LOCATION:Atkinson Court 3
CATEGORIES:QuickScores; Basketball Game
TRANSP:0
DALARM:20260418T084500;PT10M;2;Roadrunners vs. 3D Athletics
END:VEVENT
END:VCALENDAR
