BEGIN:VCALENDAR
VERSION:1.0
BEGIN:VEVENT
DTSTART:20260314T080000
DTEND:20260314T085500
SUMMARY:Gremlins vs. Hoop Code Black
DESCRIPTION:3/4th Grade Boys - Legacy Youth Sports
LOCATION:Kroc Center - Court 3
CATEGORIES:QuickScores; Basketball Game
TRANSP:0
DALARM:20260314T060000;PT10M;2;Gremlins vs. Hoop Code Black
END:VEVENT
BEGIN:VEVENT
DTSTART:20260321T095000
DTEND:20260321T104500
SUMMARY:Hoop Code Black vs. FOE Elite
DESCRIPTION:FOE Elite #15 Zane McFadden scores 22 points --- 3/4th Grade Boys - Legacy Youth Sports
LOCATION:Atkinson Court 1
CATEGORIES:QuickScores; Basketball Game
TRANSP:0
DALARM:20260321T075000;PT10M;2;Hoop Code Black vs. FOE Elite
END:VEVENT
BEGIN:VEVENT
DTSTART:20260411T095000
DTEND:20260411T104500
SUMMARY:Zone 6 vs. Hoop Code Black
DESCRIPTION:3/4th Grade Boys - Legacy Youth Sports
LOCATION:Atkinson Court 2
CATEGORIES:QuickScores; Basketball Game
TRANSP:0
DALARM:20260411T075000;PT10M;2;Zone 6 vs. Hoop Code Black
END:VEVENT
BEGIN:VEVENT
DTSTART:20260411T104500
DTEND:20260411T114000
SUMMARY:SNC Sports vs. Hoop Code Black
DESCRIPTION:3/4th Grade Boys - Legacy Youth Sports
LOCATION:Atkinson Court 2
CATEGORIES:QuickScores; Basketball Game
TRANSP:0
DALARM:20260411T084500;PT10M;2;SNC Sports vs. Hoop Code Black
END:VEVENT
END:VCALENDAR
