BEGIN:VCALENDAR
VERSION:1.0
BEGIN:VEVENT
DTSTART:20260314T171000
DTEND:20260314T180500
SUMMARY:AZ Flight vs. Work Athletics
DESCRIPTION:3/4th Grade Boys - Legacy Youth Sports
LOCATION:Kroc Center - Court 3
CATEGORIES:QuickScores; Basketball Game
TRANSP:0
DALARM:20260314T151000;PT10M;2;AZ Flight vs. Work Athletics
END:VEVENT
BEGIN:VEVENT
DTSTART:20260321T142500
DTEND:20260321T152000
SUMMARY:Blue Chip vs. AZ Flight
DESCRIPTION:AZ Flight #99 scores 18 points --- 3/4th Grade Boys - Legacy Youth Sports
LOCATION:Atkinson Court 1
CATEGORIES:QuickScores; Basketball Game
TRANSP:0
DALARM:20260321T122500;PT10M;2;Blue Chip vs. AZ Flight
END:VEVENT
END:VCALENDAR
