BEGIN:VCALENDAR
VERSION:1.0
BEGIN:VEVENT
DTSTART:20260221T104500
DTEND:20260221T114000
SUMMARY:RISE 3rd Blue vs. NTWRK Elite
DESCRIPTION:2/3rd Grade Boys - Legacy Youth Sports
LOCATION:Moon Valley HS  MAIN
CATEGORIES:QuickScores; Basketball Game
TRANSP:0
DALARM:20260221T084500;PT10M;2;RISE 3rd Blue vs. NTWRK Elite
END:VEVENT
BEGIN:VEVENT
DTSTART:20260228T085500
DTEND:20260228T095000
SUMMARY:PHX Fire 9U Girls vs. NTWRK Elite
DESCRIPTION:2/3rd Grade Boys - Legacy Youth Sports
LOCATION:Atkinson Court 3
CATEGORIES:QuickScores; Basketball Game
TRANSP:0
DALARM:20260228T065500;PT10M;2;PHX Fire 9U Girls vs. NTWRK Elite
END:VEVENT
BEGIN:VEVENT
DTSTART:20260307T123500
DTEND:20260307T133000
SUMMARY:FYG vs. NTWRK Elite
DESCRIPTION:FYG #5 scores 10 points --- 2/3rd Grade Boys - Legacy Youth Sports
LOCATION:Kroc Center - Court 2
CATEGORIES:QuickScores; Basketball Game
TRANSP:0
DALARM:20260307T103500;PT10M;2;FYG vs. NTWRK Elite
END:VEVENT
BEGIN:VEVENT
DTSTART:20260321T085500
DTEND:20260321T095000
SUMMARY:AZ Flight vs. NTWRK Elite
DESCRIPTION:NTWRK Elite #41 12 points --- 2/3rd Grade Boys - Legacy Youth Sports
LOCATION:Atkinson Court 2
CATEGORIES:QuickScores; Basketball Game
TRANSP:0
DALARM:20260321T065500;PT10M;2;AZ Flight vs. NTWRK Elite
END:VEVENT
BEGIN:VEVENT
DTSTART:20260328T080000
DTEND:20260328T085500
SUMMARY:NTWRK Elite vs. FOE Elite
DESCRIPTION:FOE #5 Adrian scores 14 points --- 2/3rd Grade Boys - Legacy Youth Sports
LOCATION:Glendale High School AUX
CATEGORIES:QuickScores; Basketball Game
TRANSP:0
DALARM:20260328T060000;PT10M;2;NTWRK Elite vs. FOE Elite
END:VEVENT
BEGIN:VEVENT
DTSTART:20260411T104500
DTEND:20260411T114000
SUMMARY:Hoop Code Black vs. NTWRK Elite
DESCRIPTION:2/3rd Grade Boys - Legacy Youth Sports
LOCATION:Atkinson Court 1
CATEGORIES:QuickScores; Basketball Game
TRANSP:0
DALARM:20260411T084500;PT10M;2;Hoop Code Black vs. NTWRK Elite
END:VEVENT
END:VCALENDAR
