BEGIN:VCALENDAR
VERSION:1.0
BEGIN:VEVENT
DTSTART:20260228T095000
DTEND:20260228T104500
SUMMARY:AZ Flight vs. AZ Legacy - Tang
DESCRIPTION:2/3rd Grade Boys - Legacy Youth Sports
LOCATION:Atkinson Court 3
CATEGORIES:QuickScores; Basketball Game
TRANSP:0
DALARM:20260228T075000;PT10M;2;AZ Flight vs. AZ Legacy - Tang
END:VEVENT
BEGIN:VEVENT
DTSTART:20260307T085500
DTEND:20260307T095000
SUMMARY:AZ Flight vs. Humble Savage Black
DESCRIPTION:AZ Flight #99 Druelz scores 10 points --- 2/3rd Grade Boys - Legacy Youth Sports
LOCATION:Kroc Center - Court 1
CATEGORIES:QuickScores; Basketball Game
TRANSP:0
DALARM:20260307T065500;PT10M;2;AZ Flight vs. Humble Savage Black
END:VEVENT
BEGIN:VEVENT
DTSTART:20260321T085500
DTEND:20260321T095000
SUMMARY:AZ Flight vs. NTWRK Elite
DESCRIPTION:NTWRK Elite #41 12 points --- 2/3rd Grade Boys - Legacy Youth Sports
LOCATION:Atkinson Court 2
CATEGORIES:QuickScores; Basketball Game
TRANSP:0
DALARM:20260321T065500;PT10M;2;AZ Flight vs. NTWRK Elite
END:VEVENT
BEGIN:VEVENT
DTSTART:20260328T114000
DTEND:20260328T123500
SUMMARY:AZ Flight vs. Super Sayians
DESCRIPTION:Super Sayians #3 Jojo scores 15 points --- 2/3rd Grade Boys - Legacy Youth Sports
LOCATION:Glendale High School AUX
CATEGORIES:QuickScores; Basketball Game
TRANSP:0
DALARM:20260328T094000;PT10M;2;AZ Flight vs. Super Sayians
END:VEVENT
END:VCALENDAR
