BEGIN:VCALENDAR
VERSION:1.0
BEGIN:VEVENT
DTSTART:20260221T104500
DTEND:20260221T114000
SUMMARY:RISE 3rd Blue vs. NTWRK Elite
DESCRIPTION:2/3rd Grade Boys - Legacy Youth Sports
LOCATION:Moon Valley HS  MAIN
CATEGORIES:QuickScores; Basketball Game
TRANSP:0
DALARM:20260221T084500;PT10M;2;RISE 3rd Blue vs. NTWRK Elite
END:VEVENT
BEGIN:VEVENT
DTSTART:20260307T123500
DTEND:20260307T133000
SUMMARY:RISE 3rd Blue vs. Super Sayians
DESCRIPTION:Super Sayians #3 scores 10 points --- 2/3rd Grade Boys - Legacy Youth Sports
LOCATION:Kroc Center - Court 1
CATEGORIES:QuickScores; Basketball Game
TRANSP:0
DALARM:20260307T103500;PT10M;2;RISE 3rd Blue vs. Super Sayians
END:VEVENT
BEGIN:VEVENT
DTSTART:20260418T142500
DTEND:20260418T152000
SUMMARY:AZ Legacy - Tang vs. RISE 3rd Blue
DESCRIPTION:2/3rd Grade Boys - Legacy Youth Sports
LOCATION:Atkinson Court 1
CATEGORIES:QuickScores; Basketball Game
TRANSP:0
DALARM:20260418T122500;PT10M;2;AZ Legacy - Tang vs. RISE 3rd Blue
END:VEVENT
END:VCALENDAR
