BEGIN:VCALENDAR
VERSION:1.0
BEGIN:VEVENT
DTSTART:20260418T090000
DTEND:20260418T103000
SUMMARY:Stonehenge Golf Club vs. Via Credit Union
DESCRIPTION:Boys 2019-2018 - Kosciusko County Soccer League
LOCATION:CCAC Field 3
CATEGORIES:QuickScores; Soccer Game
TRANSP:0
DALARM:20260418T070000;PT10M;2;Stonehenge Golf Club vs. Via Credit Union
END:VEVENT
BEGIN:VEVENT
DTSTART:20260420T173000
DTEND:20260420T190000
SUMMARY:Via Credit Union vs. Grace College
DESCRIPTION:Boys 2019-2018 - Kosciusko County Soccer League
LOCATION:CCAC Field 3
CATEGORIES:QuickScores; Soccer Game
TRANSP:0
DALARM:20260420T153000;PT10M;2;Via Credit Union vs. Grace College
END:VEVENT
BEGIN:VEVENT
DTSTART:20260425T103000
DTEND:20260425T120000
SUMMARY:Warsaw Breakfast Optimist A vs. Via Credit Union
DESCRIPTION:Boys 2019-2018 - Kosciusko County Soccer League
LOCATION:CCAC Field 3
CATEGORIES:QuickScores; Soccer Game
TRANSP:0
DALARM:20260425T083000;PT10M;2;Warsaw Breakfast Optimist A vs. Via Credit Union
END:VEVENT
BEGIN:VEVENT
DTSTART:20260427T173000
DTEND:20260427T190000
SUMMARY:Via Credit Union vs. Avodah HomeBuyers A
DESCRIPTION:Boys 2019-2018 - Kosciusko County Soccer League
LOCATION:CCAC Field 3
CATEGORIES:QuickScores; Soccer Game
TRANSP:0
DALARM:20260427T153000;PT10M;2;Via Credit Union vs. Avodah HomeBuyers A
END:VEVENT
BEGIN:VEVENT
DTSTART:20260502T090000
DTEND:20260502T103000
SUMMARY:JT Services Group vs. Via Credit Union
DESCRIPTION:Boys 2019-2018 - Kosciusko County Soccer League
LOCATION:CCAC Field 3
CATEGORIES:QuickScores; Soccer Game
TRANSP:0
DALARM:20260502T070000;PT10M;2;JT Services Group vs. Via Credit Union
END:VEVENT
BEGIN:VEVENT
DTSTART:20260504T173000
DTEND:20260504T190000
SUMMARY:Via Credit Union vs. Stonehenge Golf Club
DESCRIPTION:Boys 2019-2018 - Kosciusko County Soccer League
LOCATION:CCAC Field 4
CATEGORIES:QuickScores; Soccer Game
TRANSP:0
DALARM:20260504T153000;PT10M;2;Via Credit Union vs. Stonehenge Golf Club
END:VEVENT
BEGIN:VEVENT
DTSTART:20260509T120000
DTEND:20260509T133000
SUMMARY:Grace College vs. Via Credit Union
DESCRIPTION:Boys 2019-2018 - Kosciusko County Soccer League
LOCATION:CCAC Field 3
CATEGORIES:QuickScores; Soccer Game
TRANSP:0
DALARM:20260509T100000;PT10M;2;Grace College vs. Via Credit Union
END:VEVENT
BEGIN:VEVENT
DTSTART:20260511T190000
DTEND:20260511T203000
SUMMARY:Via Credit Union vs. Warsaw Breakfast Optimist A
DESCRIPTION:Boys 2019-2018 - Kosciusko County Soccer League
LOCATION:CCAC Field 3
CATEGORIES:QuickScores; Soccer Game
TRANSP:0
DALARM:20260511T170000;PT10M;2;Via Credit Union vs. Warsaw Breakfast Optimist A
END:VEVENT
BEGIN:VEVENT
DTSTART:20260516T103000
DTEND:20260516T120000
SUMMARY:Avodah HomeBuyers A vs. Via Credit Union
DESCRIPTION:Boys 2019-2018 - Kosciusko County Soccer League
LOCATION:CCAC Field 3
CATEGORIES:QuickScores; Soccer Game
TRANSP:0
DALARM:20260516T083000;PT10M;2;Avodah HomeBuyers A vs. Via Credit Union
END:VEVENT
BEGIN:VEVENT
DTSTART:20260518T173000
DTEND:20260518T190000
SUMMARY:Via Credit Union vs. JT Services Group
DESCRIPTION:Boys 2019-2018 - Kosciusko County Soccer League
LOCATION:CCAC Field 3
CATEGORIES:QuickScores; Soccer Game
TRANSP:0
DALARM:20260518T153000;PT10M;2;Via Credit Union vs. JT Services Group
END:VEVENT
END:VCALENDAR
