BEGIN:VCALENDAR
VERSION:1.0
BEGIN:VEVENT
DTSTART:20260330T173000
DTEND:20260330T193000
SUMMARY:Sutton vs. Bones
DESCRIPTION:AA Minors - Jackson Little League
LOCATION:Justice GrassA
CATEGORIES:QuickScores; Baseball Game
TRANSP:0
DALARM:20260330T153000;PT10M;2;Sutton vs. Bones
END:VEVENT
BEGIN:VEVENT
DTSTART:20260401T173000
DTEND:20260401T193000
SUMMARY:Rizzo vs. Sutton
DESCRIPTION:AA Minors - Jackson Little League
LOCATION:Justice Turf1
CATEGORIES:QuickScores; Baseball Game
TRANSP:0
DALARM:20260401T153000;PT10M;2;Rizzo vs. Sutton
END:VEVENT
BEGIN:VEVENT
DTSTART:20260413T173000
DTEND:20260413T193000
SUMMARY:Gladysz vs. Sutton
DESCRIPTION:AA Minors - Jackson Little League
LOCATION:Holbrook AAA Field
CATEGORIES:QuickScores; Baseball Game
TRANSP:0
DALARM:20260413T153000;PT10M;2;Gladysz vs. Sutton
END:VEVENT
BEGIN:VEVENT
DTSTART:20260418T093000
DTEND:20260418T113000
SUMMARY:Bones vs. Sutton
DESCRIPTION:AA Minors - Jackson Little League
LOCATION:Justice Turf1
CATEGORIES:QuickScores; Baseball Game
TRANSP:0
DALARM:20260418T073000;PT10M;2;Bones vs. Sutton
END:VEVENT
BEGIN:VEVENT
DTSTART:20260422T173000
DTEND:20260422T193000
SUMMARY:Sutton vs. Rizzo
DESCRIPTION:AA Minors - Jackson Little League
LOCATION:Holbrook AA Field
CATEGORIES:QuickScores; Baseball Game
TRANSP:0
DALARM:20260422T153000;PT10M;2;Sutton vs. Rizzo
END:VEVENT
BEGIN:VEVENT
DTSTART:20260425T093000
DTEND:20260425T113000
SUMMARY:Sutton vs. Gladysz
DESCRIPTION:AA Minors - Jackson Little League
LOCATION:Holbrook AA Field
CATEGORIES:QuickScores; Baseball Game
TRANSP:0
DALARM:20260425T073000;PT10M;2;Sutton vs. Gladysz
END:VEVENT
BEGIN:VEVENT
DTSTART:20260429T173000
DTEND:20260429T193000
SUMMARY:Sutton vs. Bones
DESCRIPTION:AA Minors - Jackson Little League
LOCATION:Justice Turf1
CATEGORIES:QuickScores; Baseball Game
TRANSP:0
DALARM:20260429T153000;PT10M;2;Sutton vs. Bones
END:VEVENT
BEGIN:VEVENT
DTSTART:20260502T093000
DTEND:20260502T113000
SUMMARY:Rizzo vs. Sutton
DESCRIPTION:AA Minors - Jackson Little League
LOCATION:Holbrook AAA Field
CATEGORIES:QuickScores; Baseball Game
TRANSP:0
DALARM:20260502T073000;PT10M;2;Rizzo vs. Sutton
END:VEVENT
BEGIN:VEVENT
DTSTART:20260504T173000
DTEND:20260504T193000
SUMMARY:Gladysz vs. Sutton
DESCRIPTION:AA Minors - Jackson Little League
LOCATION:Justice GrassA
CATEGORIES:QuickScores; Baseball Game
TRANSP:0
DALARM:20260504T153000;PT10M;2;Gladysz vs. Sutton
END:VEVENT
BEGIN:VEVENT
DTSTART:20260509T113000
DTEND:20260509T133000
SUMMARY:Bones vs. Sutton
DESCRIPTION:AA Minors - Jackson Little League
LOCATION:Holbrook Majors Field
CATEGORIES:QuickScores; Baseball Game
TRANSP:0
DALARM:20260509T093000;PT10M;2;Bones vs. Sutton
END:VEVENT
BEGIN:VEVENT
DTSTART:20260513T173000
DTEND:20260513T193000
SUMMARY:Sutton vs. Rizzo
DESCRIPTION:AA Minors - Jackson Little League
LOCATION:Holbrook AAA Field
CATEGORIES:QuickScores; Baseball Game
TRANSP:0
DALARM:20260513T153000;PT10M;2;Sutton vs. Rizzo
END:VEVENT
BEGIN:VEVENT
DTSTART:20260516T113000
DTEND:20260516T133000
SUMMARY:Sutton vs. Gladysz
DESCRIPTION:AA Minors - Jackson Little League
LOCATION:Justice Turf2
CATEGORIES:QuickScores; Baseball Game
TRANSP:0
DALARM:20260516T093000;PT10M;2;Sutton vs. Gladysz
END:VEVENT
END:VCALENDAR
