BEGIN:VCALENDAR
VERSION:1.0
BEGIN:VEVENT
DTSTART:20260330T173000
DTEND:20260330T193000
SUMMARY:Rizzo vs. Gladysz
DESCRIPTION:AA Minors - Jackson Little League
LOCATION:Justice Turf1
CATEGORIES:QuickScores; Baseball Game
TRANSP:0
DALARM:20260330T153000;PT10M;2;Rizzo vs. Gladysz
END:VEVENT
BEGIN:VEVENT
DTSTART:20260404T093000
DTEND:20260404T113000
SUMMARY:Bones vs. Gladysz
DESCRIPTION:AA Minors - Jackson Little League
LOCATION:Justice GrassA
CATEGORIES:QuickScores; Baseball Game
TRANSP:0
DALARM:20260404T073000;PT10M;2;Bones vs. Gladysz
END:VEVENT
BEGIN:VEVENT
DTSTART:20260406T173000
DTEND:20260406T193000
SUMMARY:Practice: Gladysz
DESCRIPTION:AA Minors - Jackson Little League
LOCATION:527 Minor
CATEGORIES:QuickScores; Baseball Game
TRANSP:0
DALARM:20260406T153000;PT10M;2;Practice: Gladysz
END:VEVENT
BEGIN:VEVENT
DTSTART:20260413T173000
DTEND:20260413T193000
SUMMARY:Gladysz vs. Sutton
DESCRIPTION:AA Minors - Jackson Little League
LOCATION:Holbrook AAA Field
CATEGORIES:QuickScores; Baseball Game
TRANSP:0
DALARM:20260413T153000;PT10M;2;Gladysz vs. Sutton
END:VEVENT
BEGIN:VEVENT
DTSTART:20260418T113000
DTEND:20260418T133000
SUMMARY:Gladysz vs. Rizzo
DESCRIPTION:AA Minors - Jackson Little League
LOCATION:Justice Turf1
CATEGORIES:QuickScores; Baseball Game
TRANSP:0
DALARM:20260418T093000;PT10M;2;Gladysz vs. Rizzo
END:VEVENT
BEGIN:VEVENT
DTSTART:20260423T173000
DTEND:20260423T193000
SUMMARY:Gladysz vs. Bones
DESCRIPTION:AA Minors - Jackson Little League
LOCATION:527 Major
CATEGORIES:QuickScores; Baseball Game
TRANSP:0
DALARM:20260423T153000;PT10M;2;Gladysz vs. Bones
END:VEVENT
BEGIN:VEVENT
DTSTART:20260425T093000
DTEND:20260425T113000
SUMMARY:Sutton vs. Gladysz
DESCRIPTION:AA Minors - Jackson Little League
LOCATION:Holbrook AA Field
CATEGORIES:QuickScores; Baseball Game
TRANSP:0
DALARM:20260425T073000;PT10M;2;Sutton vs. Gladysz
END:VEVENT
BEGIN:VEVENT
DTSTART:20260427T173000
DTEND:20260427T193000
SUMMARY:Rizzo vs. Gladysz
DESCRIPTION:AA Minors - Jackson Little League
LOCATION:Justice GrassA
CATEGORIES:QuickScores; Baseball Game
TRANSP:0
DALARM:20260427T153000;PT10M;2;Rizzo vs. Gladysz
END:VEVENT
BEGIN:VEVENT
DTSTART:20260502T113000
DTEND:20260502T133000
SUMMARY:Bones vs. Gladysz
DESCRIPTION:AA Minors - Jackson Little League
LOCATION:Holbrook Majors Field
CATEGORIES:QuickScores; Baseball Game
TRANSP:0
DALARM:20260502T093000;PT10M;2;Bones vs. Gladysz
END:VEVENT
BEGIN:VEVENT
DTSTART:20260504T173000
DTEND:20260504T193000
SUMMARY:Gladysz vs. Sutton
DESCRIPTION:AA Minors - Jackson Little League
LOCATION:Justice GrassA
CATEGORIES:QuickScores; Baseball Game
TRANSP:0
DALARM:20260504T153000;PT10M;2;Gladysz vs. Sutton
END:VEVENT
BEGIN:VEVENT
DTSTART:20260507T173000
DTEND:20260507T193000
SUMMARY:Practice: Gladysz
DESCRIPTION:AA Minors - Jackson Little League
LOCATION:527 Major
CATEGORIES:QuickScores; Baseball Game
TRANSP:0
DALARM:20260507T153000;PT10M;2;Practice: Gladysz
END:VEVENT
BEGIN:VEVENT
DTSTART:20260509T093000
DTEND:20260509T113000
SUMMARY:Gladysz vs. Rizzo
DESCRIPTION:AA Minors - Jackson Little League
LOCATION:Holbrook Majors Field
CATEGORIES:QuickScores; Baseball Game
TRANSP:0
DALARM:20260509T073000;PT10M;2;Gladysz vs. Rizzo
END:VEVENT
BEGIN:VEVENT
DTSTART:20260511T173000
DTEND:20260511T193000
SUMMARY:Gladysz vs. Bones
DESCRIPTION:AA Minors - Jackson Little League
LOCATION:Justice GrassA
CATEGORIES:QuickScores; Baseball Game
TRANSP:0
DALARM:20260511T153000;PT10M;2;Gladysz vs. Bones
END:VEVENT
BEGIN:VEVENT
DTSTART:20260516T113000
DTEND:20260516T133000
SUMMARY:Sutton vs. Gladysz
DESCRIPTION:AA Minors - Jackson Little League
LOCATION:Justice Turf2
CATEGORIES:QuickScores; Baseball Game
TRANSP:0
DALARM:20260516T093000;PT10M;2;Sutton vs. Gladysz
END:VEVENT
END:VCALENDAR
