BEGIN:VCALENDAR
VERSION:1.0
BEGIN:VEVENT
DTSTART:20200121T090000
DTEND:20200121T104500
SUMMARY:Delaware Auto Salvage vs. Sun City 70's
DESCRIPTION:Men 70 AAA - International Senior Softball Association<br>ISSA
LOCATION:RSC 1
CATEGORIES:QuickScores; Softball Game
TRANSP:0
DALARM:20200121T070000;PT10M;2;Delaware Auto Salvage vs. Sun City 70's
END:VEVENT
BEGIN:VEVENT
DTSTART:20200121T103000
DTEND:20200121T121500
SUMMARY:Sun City 70's vs. Steel City 70's
DESCRIPTION:Men 70 AAA - International Senior Softball Association<br>ISSA
LOCATION:RSC 1
CATEGORIES:QuickScores; Softball Game
TRANSP:0
DALARM:20200121T083000;PT10M;2;Sun City 70's vs. Steel City 70's
END:VEVENT
BEGIN:VEVENT
DTSTART:20200122T090000
DTEND:20200122T104500
SUMMARY:[1] Sun City 70's vs. [4] Steel City 70's
DESCRIPTION:Men 70 AAA - International Senior Softball Association<br>ISSA
LOCATION:RSC 5
CATEGORIES:QuickScores; Softball Game
TRANSP:0
DALARM:20200122T070000;PT10M;2;[1] Sun City 70's vs. [4] Steel City 70's
END:VEVENT
BEGIN:VEVENT
DTSTART:20200122T120000
DTEND:20200122T134500
SUMMARY:[1] Sun City 70's vs. [3] Delaware Auto Salvage
DESCRIPTION:Men 70 AAA - International Senior Softball Association<br>ISSA
LOCATION:RSC 5
CATEGORIES:QuickScores; Softball Game
TRANSP:0
DALARM:20200122T100000;PT10M;2;[1] Sun City 70's vs. [3] Delaware Auto Salvage
END:VEVENT
BEGIN:VEVENT
DTSTART:20200123T100000
DTEND:20200123T114500
SUMMARY:[1] Sun City 70's vs. [2] FL Mustang 70's
DESCRIPTION:Men 70 AAA - International Senior Softball Association<br>ISSA
LOCATION:RSC 5
CATEGORIES:QuickScores; Softball Game
TRANSP:0
DALARM:20200123T080000;PT10M;2;[1] Sun City 70's vs. [2] FL Mustang 70's
END:VEVENT
END:VCALENDAR
