BEGIN:VCALENDAR
VERSION:1.0
BEGIN:VEVENT
DTSTART:20260327T120000
DTEND:20260327T133000
SUMMARY:Holy City Hitmen vs. Peacemakers 60
DESCRIPTION:Men 60 Major - International Senior Softball Association<br>ISSA
LOCATION:KMSC 1
CATEGORIES:QuickScores; Softball Game
TRANSP:0
DALARM:20260327T100000;PT10M;2;Holy City Hitmen vs. Peacemakers 60
END:VEVENT
BEGIN:VEVENT
DTSTART:20260327T133000
DTEND:20260327T150000
SUMMARY:Peacemakers 60 vs. Monarchs 60 Reloaded
DESCRIPTION:Men 60 Major - International Senior Softball Association<br>ISSA
LOCATION:KMSC 2
CATEGORIES:QuickScores; Softball Game
TRANSP:0
DALARM:20260327T113000;PT10M;2;Peacemakers 60 vs. Monarchs 60 Reloaded
END:VEVENT
BEGIN:VEVENT
DTSTART:20260328T100000
DTEND:20260328T113000
SUMMARY:[2] Peacemakers 60 vs. [3] Holy City Hitmen
DESCRIPTION:Men 60 Major - International Senior Softball Association<br>ISSA
LOCATION:NSP-SC 1
CATEGORIES:QuickScores; Softball Game
TRANSP:0
DALARM:20260328T080000;PT10M;2;[2] Peacemakers 60 vs. [3] Holy City Hitmen
END:VEVENT
BEGIN:VEVENT
DTSTART:20260328T143000
DTEND:20260328T160000
SUMMARY:[4] Steel City A's vs. [2] Peacemakers 60
DESCRIPTION:Men 60 Major - International Senior Softball Association<br>ISSA
LOCATION:NSP-SC 1
CATEGORIES:QuickScores; Softball Game
TRANSP:0
DALARM:20260328T123000;PT10M;2;[4] Steel City A's vs. [2] Peacemakers 60
END:VEVENT
END:VCALENDAR
