BEGIN:VCALENDAR
VERSION:1.0
BEGIN:VEVENT
DTSTART:20260130T120000
DTEND:20260130T133000
SUMMARY:Power-Up 5.0 vs. Highly Favored
DESCRIPTION:Women 50 AAA/Major/55 Major - International Senior Softball Association<br>ISSA
LOCATION:OPSC 2
CATEGORIES:QuickScores; Softball Game
TRANSP:0
DALARM:20260130T100000;PT10M;2;Power-Up 5.0 vs. Highly Favored
END:VEVENT
BEGIN:VEVENT
DTSTART:20260130T133000
DTEND:20260130T150000
SUMMARY:Highly Favored vs. B2B
DESCRIPTION:Women 50 AAA/Major/55 Major - International Senior Softball Association<br>ISSA
LOCATION:OPSC 2
CATEGORIES:QuickScores; Softball Game
TRANSP:0
DALARM:20260130T113000;PT10M;2;Highly Favored vs. B2B
END:VEVENT
END:VCALENDAR
