BEGIN:VCALENDAR
VERSION:1.0
BEGIN:VEVENT
DTSTART:20250606T090000
DTEND:20250606T103000
SUMMARY:Escobar Body Shop/ Spartan Bat Co vs. Zellers Gulf
DESCRIPTION:Men 55 Major - International Senior Softball Association<br>ISSA
LOCATION:KCS 2
CATEGORIES:QuickScores; Softball Game
TRANSP:0
DALARM:20250606T070000;PT10M;2;Escobar Body Shop/ Spartan Bat Co vs. Zellers Gulf
END:VEVENT
BEGIN:VEVENT
DTSTART:20250606T120000
DTEND:20250606T133000
SUMMARY:Zellers Gulf vs. TN Select/LP Sports/Wicked Mitts
DESCRIPTION:Men 55 Major - International Senior Softball Association<br>ISSA
LOCATION:KCS 2
CATEGORIES:QuickScores; Softball Game
TRANSP:0
DALARM:20250606T100000;PT10M;2;Zellers Gulf vs. TN Select/LP Sports/Wicked Mitts
END:VEVENT
BEGIN:VEVENT
DTSTART:20250607T160000
DTEND:20250607T173000
SUMMARY:[A3] Backside vs. [E4] Zellers Gulf
DESCRIPTION:Men 55 Major - International Senior Softball Association<br>ISSA
LOCATION:EP 2
CATEGORIES:QuickScores; Softball Game
TRANSP:0
DALARM:20250607T140000;PT10M;2;[A3] Backside vs. [E4] Zellers Gulf
END:VEVENT
END:VCALENDAR
