BEGIN:VCALENDAR
VERSION:1.0
BEGIN:VEVENT
DTSTART:20250606T120000
DTEND:20250606T133000
SUMMARY:Tiffany's 55 vs. N.E.Merchants
DESCRIPTION:Men 55 Major - International Senior Softball Association<br>ISSA
LOCATION:KCS 1
CATEGORIES:QuickScores; Softball Game
TRANSP:0
DALARM:20250606T100000;PT10M;2;Tiffany's 55 vs. N.E.Merchants
END:VEVENT
BEGIN:VEVENT
DTSTART:20250606T150000
DTEND:20250606T163000
SUMMARY:Steve Smith Softball vs. Tiffany's 55
DESCRIPTION:Men 55 Major - International Senior Softball Association<br>ISSA
LOCATION:KCS 4
CATEGORIES:QuickScores; Softball Game
TRANSP:0
DALARM:20250606T130000;PT10M;2;Steve Smith Softball vs. Tiffany's 55
END:VEVENT
BEGIN:VEVENT
DTSTART:20250607T173000
DTEND:20250607T190000
SUMMARY:[C2] HOTT Softball vs. [D2] Tiffany's 55
DESCRIPTION:Men 55 Major - International Senior Softball Association<br>ISSA
LOCATION:LMP 3
CATEGORIES:QuickScores; Softball Game
TRANSP:0
DALARM:20250607T153000;PT10M;2;[C2] HOTT Softball vs. [D2] Tiffany's 55
END:VEVENT
BEGIN:VEVENT
DTSTART:20250608T120000
DTEND:20250608T133000
SUMMARY:[A1] C3 Skids/Skid Daddy vs. [D2] Tiffany's 55
DESCRIPTION:Men 55 Major - International Senior Softball Association<br>ISSA
LOCATION:CP-K 4
CATEGORIES:QuickScores; Softball Game
TRANSP:0
DALARM:20250608T100000;PT10M;2;[A1] C3 Skids/Skid Daddy vs. [D2] Tiffany's 55
END:VEVENT
BEGIN:VEVENT
DTSTART:20250608T150000
DTEND:20250608T163000
SUMMARY:[D2] Tiffany's 55 vs. [E1] Escobar Body Shop/ Spartan Bat Co
DESCRIPTION:Men 55 Major - International Senior Softball Association<br>ISSA
LOCATION:CP-K 3
CATEGORIES:QuickScores; Softball Game
TRANSP:0
DALARM:20250608T130000;PT10M;2;[D2] Tiffany's 55 vs. [E1] Escobar Body Shop/ Spartan Bat Co
END:VEVENT
END:VCALENDAR
