BEGIN:VCALENDAR
VERSION:1.0
BEGIN:VEVENT
DTSTART:20250606T120000
DTEND:20250606T133000
SUMMARY:MJ Lowe Legends vs. Steve Smith Softball
DESCRIPTION:Men 55 Major - International Senior Softball Association<br>ISSA
LOCATION:KCS 4
CATEGORIES:QuickScores; Softball Game
TRANSP:0
DALARM:20250606T100000;PT10M;2;MJ Lowe Legends vs. Steve Smith Softball
END:VEVENT
BEGIN:VEVENT
DTSTART:20250606T150000
DTEND:20250606T163000
SUMMARY:N.E.Merchants vs. MJ Lowe Legends
DESCRIPTION:Men 55 Major - International Senior Softball Association<br>ISSA
LOCATION:KCS 3
CATEGORIES:QuickScores; Softball Game
TRANSP:0
DALARM:20250606T130000;PT10M;2;N.E.Merchants vs. MJ Lowe Legends
END:VEVENT
BEGIN:VEVENT
DTSTART:20250607T160000
DTEND:20250607T173000
SUMMARY:[D4] MJ Lowe Legends vs. [C4] Kincaid Sports 55
DESCRIPTION:Men 55 Major - International Senior Softball Association<br>ISSA
LOCATION:LMP 4
CATEGORIES:QuickScores; Softball Game
TRANSP:0
DALARM:20250607T140000;PT10M;2;[D4] MJ Lowe Legends vs. [C4] Kincaid Sports 55
END:VEVENT
BEGIN:VEVENT
DTSTART:20250608T103000
DTEND:20250608T120000
SUMMARY:[A1] C3 Skids/Skid Daddy vs. [D4] MJ Lowe Legends
DESCRIPTION:Men 55 Major - International Senior Softball Association<br>ISSA
LOCATION:CP-K 4
CATEGORIES:QuickScores; Softball Game
TRANSP:0
DALARM:20250608T083000;PT10M;2;[A1] C3 Skids/Skid Daddy vs. [D4] MJ Lowe Legends
END:VEVENT
END:VCALENDAR
